Workbook

Sheet XERO BUDGET
A1: BUSINESS BUDGET TEMPLATE
A2: [Business name]
B3: YEAR TOTALS | E3: January | G3: February | I3: March | K3: April | M3: May | O3: June | Q3: July | S3: August | U3: September | W3: October | Y3: November | AA3: December
A4: Summary | B4: BUDGET | C4: ACTUAL | D4: UNDER / OVER | E4: BUDGET | F4: ACTUAL | G4: BUDGET | H4: ACTUAL | I4: BUDGET | J4: ACTUAL | K4: BUDGET | L4: ACTUAL | M4: BUDGET | N4: ACTUAL | O4: BUDGET | P4: ACTUAL | Q4: BUDGET | R4: ACTUAL | S4: BUDGET | T4: ACTUAL | U4: BUDGET | V4: ACTUAL | W4: BUDGET | X4: ACTUAL | Y4: BUDGET | Z4: ACTUAL | AA4: BUDGET | AB4: ACTUAL
A5: Total Income | B5: =B19 -> 0 | C5: =C19 -> 0 | D5: =D19 -> 0 | E5: =E19 -> 0 | F5: =F19 -> 0 | G5: =G19 -> 0 | H5: =H19 -> 0 | I5: =I19 -> 0 | ... AB5: =AB19 -> 0
A6: Total Expenses | B6: =B46 -> 0 | C6: =C46 -> 0 | D6: =D46 -> 0 | E6: =E46 -> 0 | F6: =F46 -> 0 | G6: =G46 -> 0 | H6: =H46 -> 0 | I6: =I46 -> 0 | ... AB6: =AB46 -> 0
A7: BALANCE | B7: =B5-B6 -> 0 | C7: =C5-C6 -> 0 | D7: =D5-D6 -> 0 | E7: =E5-E6 -> 0 | F7: =F5-F6 -> 0 | G7: =G5-G6 -> 0 | H7: =H5-H6 -> 0 | I7: =I5-I6 -> 0 | ... AB7: =AB5-AB6 -> 0
B9: YEAR END | E9: January | G9: February | I9: March | K9: April | M9: May | O9: June | Q9: July | S9: August | U9: September | W9: October | Y9: November | AA9: December
A10: INCOME | B10: BUDGET | C10: ACTUAL | D10: UNDER / OVER | E10: BUDGET | F10: ACTUAL | G10: BUDGET | H10: ACTUAL | I10: BUDGET | J10: ACTUAL | K10: BUDGET | L10: ACTUAL | M10: BUDGET | N10: ACTUAL | O10: BUDGET | P10: ACTUAL | Q10: BUDGET | R10: ACTUAL | S10: BUDGET | T10: ACTUAL | U10: BUDGET | V10: ACTUAL | W10: BUDGET | X10: ACTUAL | Y10: BUDGET | Z10: ACTUAL | AA10: BUDGET | AB10: ACTUAL
A11: OPERATING INCOME
A12: Category 1 | B12: =SUM(E12,G12,I12,K12,M12,O12,Q12,S12,U12,W12,Y12,AA12) -> 0 | C12: =SUM(F12,H12,J12,L12,N12,P12,R12,T12,V12,X12,Z12,AB12) -> 0 | D12: =C12-B12 -> 0
A13: Category 2 | B13: =SUM(E13,G13,I13,K13,M13,O13,Q13,S13,U13,W13,Y13,AA13) -> 0 | C13: =SUM(F13,H13,J13,L13,N13,P13,R13,T13,V13,X13,Z13,AB13) -> 0 | D13: =C13-B13 -> 0
A14: Category 3 | B14: =SUM(E14,G14,I14,K14,M14,O14,Q14,S14,U14,W14,Y14,AA14) -> 0 | C14: =SUM(F14,H14,J14,L14,N14,P14,R14,T14,V14,X14,Z14,AB14) -> 0 | D14: =C14-B14 -> 0
A15: Category 4 | B15: =SUM(E15,G15,I15,K15,M15,O15,Q15,S15,U15,W15,Y15,AA15) -> 0 | C15: =SUM(F15,H15,J15,L15,N15,P15,R15,T15,V15,X15,Z15,AB15) -> 0 | D15: =C15-B15 -> 0
A16: Category 5 | B16: =SUM(E16,G16,I16,K16,M16,O16,Q16,S16,U16,W16,Y16,AA16) -> 0 | C16: =SUM(F16,H16,J16,L16,N16,P16,R16,T16,V16,X16,Z16,AB16) -> 0 | D16: =C16-B16 -> 0
A17: Category 6 | B17: =SUM(E17,G17,I17,K17,M17,O17,Q17,S17,U17,W17,Y17,AA17) -> 0 | C17: =SUM(F17,H17,J17,L17,N17,P17,R17,T17,V17,X17,Z17,AB17) -> 0 | D17: =C17-B17 -> 0
A18: Category 7 | B18: =SUM(E18,G18,I18,K18,M18,O18,Q18,S18,U18,W18,Y18,AA18) -> 0 | C18: =SUM(F18,H18,J18,L18,N18,P18,R18,T18,V18,X18,Z18,AB18) -> 0 | D18: =C18-B18 -> 0
A19: TOTAL | B19: =SUM(B12:B18) -> 0 | C19: =SUM(C12:C18) -> 0 | D19: =C19-B19 -> 0 | E19: =SUM(E12:E18) -> 0 | F19: =SUM(F12:F18) -> 0 | G19: =SUM(G12:G18) -> 0 | H19: =SUM(H12:H18) -> 0 | I19: =SUM(I12:I18) -> 0 | J19: =SUM(J12:J18) -> 0 | K19: =SUM(K12:K18) -> 0 | L19: =SUM(L12:L18) -> 0 | ... AB19: =SUM(AB12:AB18) -> 0
B21: YEAR END | E21: January | G21: February | I21: March | K21: April | M21: May | O21: June | Q21: July | S21: August | U21: September | W21: October | Y21: November | AA21: December
A22: EXPENSES | B22: BUDGET | C22: ACTUAL | D22: UNDER / OVER | E22: BUDGET | F22: ACTUAL | G22: BUDGET | H22: ACTUAL | I22: BUDGET | J22: ACTUAL | K22: BUDGET | L22: ACTUAL | M22: BUDGET | N22: ACTUAL | O22: BUDGET | P22: ACTUAL | Q22: BUDGET | R22: ACTUAL | S22: BUDGET | T22: ACTUAL | U22: BUDGET | V22: ACTUAL | W22: BUDGET | X22: ACTUAL | Y22: BUDGET | Z22: ACTUAL | AA22: BUDGET | AB22: ACTUAL
A23: OPERATING EXPENSE
A24: Accounting & Legal | B24: =SUM(E24,G24,I24,K24,M24,O24,Q24,S24,U24,W24,Y24,AA24) -> 0 | C24: =SUM(F24,H24,J24,L24,N24,P24,R24,T24,V24,X24,Z24,AB24) -> 0 | D24: =B24-C24 -> 0
A25: Advertising | B25: =SUM(E25,G25,I25,K25,M25,O25,Q25,S25,U25,W25,Y25,AA25) -> 0 | C25: =SUM(F25,H25,J25,L25,N25,P25,R25,T25,V25,X25,Z25,AB25) -> 0 | D25: =B25-C25 -> 0
A26: Depreciation | B26: =SUM(E26,G26,I26,K26,M26,O26,Q26,S26,U26,W26,Y26,AA26) -> 0 | C26: =SUM(F26,H26,J26,L26,N26,P26,R26,T26,V26,X26,Z26,AB26) -> 0 | D26: =B26-C26 -> 0
A27: Dues & Subscriptions | B27: =SUM(E27,G27,I27,K27,M27,O27,Q27,S27,U27,W27,Y27,AA27) -> 0 | C27: =SUM(F27,H27,J27,L27,N27,P27,R27,T27,V27,X27,Z27,AB27) -> 0 | D27: =B27-C27 -> 0
A28: Insurance | B28: =SUM(E28,G28,I28,K28,M28,O28,Q28,S28,U28,W28,Y28,AA28) -> 0 | C28: =SUM(F28,H28,J28,L28,N28,P28,R28,T28,V28,X28,Z28,AB28) -> 0 | D28: =B28-C28 -> 0
A29: Interest Expense | B29: =SUM(E29,G29,I29,K29,M29,O29,Q29,S29,U29,W29,Y29,AA29) -> 0 | C29: =SUM(F29,H29,J29,L29,N29,P29,R29,T29,V29,X29,Z29,AB29) -> 0 | D29: =B29-C29 -> 0
A30: Maintenance/ Improvements | B30: =SUM(E30,G30,I30,K30,M30,O30,Q30,S30,U30,W30,Y30,AA30) -> 0 | C30: =SUM(F30,H30,J30,L30,N30,P30,R30,T30,V30,X30,Z30,AB30) -> 0 | D30: =B30-C30 -> 0
A31: Taxes & Licenses | B31: =SUM(E31,G31,I31,K31,M31,O31,Q31,S31,U31,W31,Y31,AA31) -> 0 | C31: =SUM(F31,H31,J31,L31,N31,P31,R31,T31,V31,X31,Z31,AB31) -> 0 | D31: =B31-C31 -> 0
A32: Telephone | B32: =SUM(E32,G32,I32,K32,M32,O32,Q32,S32,U32,W32,Y32,AA32) -> 0 | C32: =SUM(F32,H32,J32,L32,N32,P32,R32,T32,V32,X32,Z32,AB32) -> 0 | D32: =B32-C32 -> 0
A33: Travel | B33: =SUM(E33,G33,I33,K33,M33,O33,Q33,S33,U33,W33,Y33,AA33) -> 0 | C33: =SUM(F33,H33,J33,L33,N33,P33,R33,T33,V33,X33,Z33,AB33) -> 0 | D33: =B33-C33 -> 0
A34: Web | B34: =SUM(E34,G34,I34,K34,M34,O34,Q34,S34,U34,W34,Y34,AA34) -> 0 | C34: =SUM(F34,H34,J34,L34,N34,P34,R34,T34,V34,X34,Z34,AB34) -> 0 | D34: =B34-C34 -> 0
B35: =SUM(B24:B34) -> 0 | C35: =SUM(C24:C34) -> 0 | D35: =SUM(D24:D34) -> 0 | E35: =SUM(E24:E34) -> 0 | F35: =SUM(F24:F34) -> 0 | G35: =SUM(G24:G34) -> 0 | H35: =SUM(H24:H34) -> 0 | I35: =SUM(I24:I34) -> 0 | ... AB35: =SUM(AB24:AB34) -> 0
A36: PAYROLL
A37: Payroll Expenses | B37: =SUM(E37,G37,I37,K37,M37,O37,Q37,S37,U37,W37,Y37,AA37) -> 0 | C37: =SUM(F37,H37,J37,L37,N37,P37,R37,T37,V37,X37,Z37,AB37) -> 0 | D37: =B37-C37 -> 0
A38: Salaries & Wages | B38: =SUM(E38,G38,I38,K38,M38,O38,Q38,S38,U38,W38,Y38,AA38) -> 0 | C38: =SUM(F38,H38,J38,L38,N38,P38,R38,T38,V38,X38,Z38,AB38) -> 0 | D38: =B38-C38 -> 0
A39: Contractor Wages | B39: =SUM(E39,G39,I39,K39,M39,O39,Q39,S39,U39,W39,Y39,AA39) -> 0 | C39: =SUM(F39,H39,J39,L39,N39,P39,R39,T39,V39,X39,Z39,AB39) -> 0 | D39: =B39-C39 -> 0
B40: =SUM(B37:B39) -> 0 | C40: =SUM(C37:C39) -> 0 | D40: =SUM(D37:D39) -> 0 | E40: =SUM(E37:E39) -> 0 | F40: =SUM(F37:F39) -> 0 | G40: =SUM(G37:G39) -> 0 | H40: =SUM(H37:H39) -> 0 | I40: =SUM(I37:I39) -> 0 | ... AB40: =SUM(AB37:AB39) -> 0
A41: OFFICE
A42: Overhead | B42: =SUM(E42,G42,I42,K42,M42,O42,Q42,S42,U42,W42,Y42,AA42) -> 0 | C42: =SUM(F42,H42,J42,L42,N42,P42,R42,T42,V42,X42,Z42,AB42) -> 0 | D42: =B42-C42 -> 0
...

Sheet ExampleXERO
A1: BUSINESS BUDGET TEMPLATE
A2: [Business name]
B3: YEAR TOTALS | E3: January | G3: February | I3: March | K3: April | M3: May | O3: June | Q3: July | S3: August | U3: September | W3: October | Y3: November | AA3: December
A4: Summary | B4: BUDGET | C4: ACTUAL | D4: UNDER / OVER | E4: BUDGET | F4: ACTUAL | G4: BUDGET | H4: ACTUAL | I4: BUDGET | J4: ACTUAL | K4: BUDGET | L4: ACTUAL | M4: BUDGET | N4: ACTUAL | O4: BUDGET | P4: ACTUAL | Q4: BUDGET | R4: ACTUAL | S4: BUDGET | T4: ACTUAL | U4: BUDGET | V4: ACTUAL | W4: BUDGET | X4: ACTUAL | Y4: BUDGET | Z4: ACTUAL | AA4: BUDGET | AB4: ACTUAL
A5: Total Income | B5: =B19 -> 0 | C5: =C19 -> 0 | D5: =D19 -> 0 | E5: =E19 -> 0 | F5: =F19 -> 0 | G5: =G19 -> 0 | H5: =H19 -> 0 | I5: =I19 -> 0 | ... AB5: =AB19 -> 0
A6: Total Expenses | B6: =B46 -> 0 | C6: =C46 -> 0 | D6: =D46 -> 0 | E6: =E46 -> 0 | F6: =F46 -> 0 | G6: =G46 -> 0 | H6: =H46 -> 0 | I6: =I46 -> 0 | ... AB6: =AB46 -> 0
A7: BALANCE | B7: =B5-B6 -> 0 | C7: =C5-C6 -> 0 | D7: =D5-D6 -> 0 | E7: =E5-E6 -> 0 | F7: =F5-F6 -> 0 | G7: =G5-G6 -> 0 | H7: =H5-H6 -> 0 | I7: =I5-I6 -> 0 | ... AB7: =AB5-AB6 -> 0
B9: YEAR END | E9: January | G9: February | I9: March | K9: April | M9: May | O9: June | Q9: July | S9: August | U9: September | W9: October | Y9: November | AA9: December
A10: INCOME | B10: BUDGET | C10: ACTUAL | D10: UNDER / OVER | E10: BUDGET | F10: ACTUAL | G10: BUDGET | H10: ACTUAL | I10: BUDGET | J10: ACTUAL | K10: BUDGET | L10: ACTUAL | M10: BUDGET | N10: ACTUAL | O10: BUDGET | P10: ACTUAL | Q10: BUDGET | R10: ACTUAL | S10: BUDGET | T10: ACTUAL | U10: BUDGET | V10: ACTUAL | W10: BUDGET | X10: ACTUAL | Y10: BUDGET | Z10: ACTUAL | AA10: BUDGET | AB10: ACTUAL
A11: OPERATING INCOME
A12: Category 1 | B12: =SUM(E12,G12,I12,K12,M12,O12,Q12,S12,U12,W12,Y12,AA12) -> 0 | C12: =SUM(F12,H12,J12,L12,N12,P12,R12,T12,V12,X12,Z12,AB12) -> 0 | D12: =C12-B12 -> 0
A13: Category 2 | B13: =SUM(E13,G13,I13,K13,M13,O13,Q13,S13,U13,W13,Y13,AA13) -> 0 | C13: =SUM(F13,H13,J13,L13,N13,P13,R13,T13,V13,X13,Z13,AB13) -> 0 | D13: =C13-B13 -> 0
A14: Category 3 | B14: =SUM(E14,G14,I14,K14,M14,O14,Q14,S14,U14,W14,Y14,AA14) -> 0 | C14: =SUM(F14,H14,J14,L14,N14,P14,R14,T14,V14,X14,Z14,AB14) -> 0 | D14: =C14-B14 -> 0
A15: Category 4 | B15: =SUM(E15,G15,I15,K15,M15,O15,Q15,S15,U15,W15,Y15,AA15) -> 0 | C15: =SUM(F15,H15,J15,L15,N15,P15,R15,T15,V15,X15,Z15,AB15) -> 0 | D15: =C15-B15 -> 0
A16: Category 5 | B16: =SUM(E16,G16,I16,K16,M16,O16,Q16,S16,U16,W16,Y16,AA16) -> 0 | C16: =SUM(F16,H16,J16,L16,N16,P16,R16,T16,V16,X16,Z16,AB16) -> 0 | D16: =C16-B16 -> 0
A17: Category 6 | B17: =SUM(E17,G17,I17,K17,M17,O17,Q17,S17,U17,W17,Y17,AA17) -> 0 | C17: =SUM(F17,H17,J17,L17,N17,P17,R17,T17,V17,X17,Z17,AB17) -> 0 | D17: =C17-B17 -> 0
A18: Category 7 | B18: =SUM(E18,G18,I18,K18,M18,O18,Q18,S18,U18,W18,Y18,AA18) -> 0 | C18: =SUM(F18,H18,J18,L18,N18,P18,R18,T18,V18,X18,Z18,AB18) -> 0 | D18: =C18-B18 -> 0
A19: TOTAL | B19: =SUM(B12:B18) -> 0 | C19: =SUM(C12:C18) -> 0 | D19: =C19-B19 -> 0 | E19: =SUM(E12:E18) -> 0 | F19: =SUM(F12:F18) -> 0 | G19: =SUM(G12:G18) -> 0 | H19: =SUM(H12:H18) -> 0 | I19: =SUM(I12:I18) -> 0 | J19: =SUM(J12:J18) -> 0 | K19: =SUM(K12:K18) -> 0 | L19: =SUM(L12:L18) -> 0 | ... AB19: =SUM(AB12:AB18) -> 0
B21: YEAR END | E21: January | G21: February | I21: March | K21: April | M21: May | O21: June | Q21: July | S21: August | U21: September | W21: October | Y21: November | AA21: December
A22: EXPENSES | B22: BUDGET | C22: ACTUAL | D22: UNDER / OVER | E22: BUDGET | F22: ACTUAL | G22: BUDGET | H22: ACTUAL | I22: BUDGET | J22: ACTUAL | K22: BUDGET | L22: ACTUAL | M22: BUDGET | N22: ACTUAL | O22: BUDGET | P22: ACTUAL | Q22: BUDGET | R22: ACTUAL | S22: BUDGET | T22: ACTUAL | U22: BUDGET | V22: ACTUAL | W22: BUDGET | X22: ACTUAL | Y22: BUDGET | Z22: ACTUAL | AA22: BUDGET | AB22: ACTUAL
A23: OPERATING EXPENSE
A24: Accounting & Legal | B24: =SUM(E24,G24,I24,K24,M24,O24,Q24,S24,U24,W24,Y24,AA24) -> 0 | C24: =SUM(F24,H24,J24,L24,N24,P24,R24,T24,V24,X24,Z24,AB24) -> 0 | D24: =B24-C24 -> 0
A25: Advertising | B25: =SUM(E25,G25,I25,K25,M25,O25,Q25,S25,U25,W25,Y25,AA25) -> 0 | C25: =SUM(F25,H25,J25,L25,N25,P25,R25,T25,V25,X25,Z25,AB25) -> 0 | D25: =B25-C25 -> 0
A26: Depreciation | B26: =SUM(E26,G26,I26,K26,M26,O26,Q26,S26,U26,W26,Y26,AA26) -> 0 | C26: =SUM(F26,H26,J26,L26,N26,P26,R26,T26,V26,X26,Z26,AB26) -> 0 | D26: =B26-C26 -> 0
A27: Dues & Subscriptions | B27: =SUM(E27,G27,I27,K27,M27,O27,Q27,S27,U27,W27,Y27,AA27) -> 0 | C27: =SUM(F27,H27,J27,L27,N27,P27,R27,T27,V27,X27,Z27,AB27) -> 0 | D27: =B27-C27 -> 0
A28: Insurance | B28: =SUM(E28,G28,I28,K28,M28,O28,Q28,S28,U28,W28,Y28,AA28) -> 0 | C28: =SUM(F28,H28,J28,L28,N28,P28,R28,T28,V28,X28,Z28,AB28) -> 0 | D28: =B28-C28 -> 0
A29: Interest Expense | B29: =SUM(E29,G29,I29,K29,M29,O29,Q29,S29,U29,W29,Y29,AA29) -> 0 | C29: =SUM(F29,H29,J29,L29,N29,P29,R29,T29,V29,X29,Z29,AB29) -> 0 | D29: =B29-C29 -> 0
A30: Maintenance/ Improvements | B30: =SUM(E30,G30,I30,K30,M30,O30,Q30,S30,U30,W30,Y30,AA30) -> 0 | C30: =SUM(F30,H30,J30,L30,N30,P30,R30,T30,V30,X30,Z30,AB30) -> 0 | D30: =B30-C30 -> 0
A31: Taxes & Licenses | B31: =SUM(E31,G31,I31,K31,M31,O31,Q31,S31,U31,W31,Y31,AA31) -> 0 | C31: =SUM(F31,H31,J31,L31,N31,P31,R31,T31,V31,X31,Z31,AB31) -> 0 | D31: =B31-C31 -> 0
A32: Telephone | B32: =SUM(E32,G32,I32,K32,M32,O32,Q32,S32,U32,W32,Y32,AA32) -> 0 | C32: =SUM(F32,H32,J32,L32,N32,P32,R32,T32,V32,X32,Z32,AB32) -> 0 | D32: =B32-C32 -> 0
A33: Travel | B33: =SUM(E33,G33,I33,K33,M33,O33,Q33,S33,U33,W33,Y33,AA33) -> 0 | C33: =SUM(F33,H33,J33,L33,N33,P33,R33,T33,V33,X33,Z33,AB33) -> 0 | D33: =B33-C33 -> 0
A34: Web | B34: =SUM(E34,G34,I34,K34,M34,O34,Q34,S34,U34,W34,Y34,AA34) -> 0 | C34: =SUM(F34,H34,J34,L34,N34,P34,R34,T34,V34,X34,Z34,AB34) -> 0 | D34: =B34-C34 -> 0
B35: =SUM(B24:B34) -> 0 | C35: =SUM(C24:C34) -> 0 | D35: =SUM(D24:D34) -> 0 | E35: =SUM(E24:E34) -> 0 | F35: =SUM(F24:F34) -> 0 | G35: =SUM(G24:G34) -> 0 | H35: =SUM(H24:H34) -> 0 | I35: =SUM(I24:I34) -> 0 | ... AB35: =SUM(AB24:AB34) -> 0
A36: PAYROLL
A37: Payroll Expenses | B37: =SUM(E37,G37,I37,K37,M37,O37,Q37,S37,U37,W37,Y37,AA37) -> 0 | C37: =SUM(F37,H37,J37,L37,N37,P37,R37,T37,V37,X37,Z37,AB37) -> 0 | D37: =B37-C37 -> 0
A38: Salaries & Wages | B38: =SUM(E38,G38,I38,K38,M38,O38,Q38,S38,U38,W38,Y38,AA38) -> 0 | C38: =SUM(F38,H38,J38,L38,N38,P38,R38,T38,V38,X38,Z38,AB38) -> 0 | D38: =B38-C38 -> 0
A39: Contractor Wages | B39: =SUM(E39,G39,I39,K39,M39,O39,Q39,S39,U39,W39,Y39,AA39) -> 0 | C39: =SUM(F39,H39,J39,L39,N39,P39,R39,T39,V39,X39,Z39,AB39) -> 0 | D39: =B39-C39 -> 0
B40: =SUM(B37:B39) -> 0 | C40: =SUM(C37:C39) -> 0 | D40: =SUM(D37:D39) -> 0 | E40: =SUM(E37:E39) -> 0 | F40: =SUM(F37:F39) -> 0 | G40: =SUM(G37:G39) -> 0 | H40: =SUM(H37:H39) -> 0 | I40: =SUM(I37:I39) -> 0 | ... AB40: =SUM(AB37:AB39) -> 0
A41: OFFICE
A42: Overhead | B42: =SUM(E42,G42,I42,K42,M42,O42,Q42,S42,U42,W42,Y42,AA42) -> 0 | C42: =SUM(F42,H42,J42,L42,N42,P42,R42,T42,V42,X42,Z42,AB42) -> 0 | D42: =B42-C42 -> 0
...

Sheet Blank Project Budget
A1: Budget 2024/25 | E1: FORECAST TOTALs | F1: ACTUAL TOTALS
D2: TOTAL INCOME | E2: =E13 -> 0 | F2: =F13 -> 0
D3: TOTAL EXPENSES | E3: =E47 -> 0 | F3: =F47 -> 0
E4: =E2-E3 -> 0 | F4: =F2-F3 -> 0
C5: YEAR TOTALS | G5: APRIL | I5: MAY | K5: JUNE | M5: JULY | O5: AUGUST | Q5: SEPTEMBER | S5: OCTOBER | U5: NOVEMBER | W5: DECEMBER | Y5: JANUARY | AA5: FEBRUARY | AC5: MARCH
B6: Notes | C6: Annual Budget | D6: MOS Budget | E6: FORECAST TOTALs | F6: ACTUAL TOTALS | G6: EXP | H6: ACT | I6: EXP | J6: ACT | K6: EXP | L6: ACT | M6: EXP | N6: ACT | O6: EXP | P6: ACT | Q6: EXP | R6: ACT | S6: EXP | T6: ACT | U6: EXP | V6: ACT | W6: EXP | X6: ACT | Y6: EXP | Z6: ACT | AA6: EXP | AB6: ACT | AC6: EXP | AD6: ACT
A7: MONEY IN - INCOME
A8: b/f | E8: 0 | F8: =L8+N8+P8+R8+T8+V8+X8++Z8+AB8+AD8 -> 0
E9: =G9+I9+K9+M9+O9+Q9+S9+U9+W9++Y9+AA9+AC9 -> 0 | F9: =H9+J9+L9+N9+P9+R9+T9+V9+X9++Z9+AB9+AD9 -> 0
E10: =G10+I10+K10+M10+O10+Q10+S10+U10+W10++Y10+AA10+AC10 -> 0 | F10: =H10+J10+L10+N10+P10+R10+T10+V10+X10++Z10+AB10+AD10 -> 0
E11: =G11+I11+K11+M11+O11+Q11+S11+U11+W11++Y11+AA11+AC11 -> 0 | F11: =H11+J11+L11+N11+P11+R11+T11+V11+X11++Z11+AB11+AD11 -> 0
A13: Totals IN | C13: =SUM(C8:C12) -> 0 | E13: =SUM(E8:E12) -> 0 | F13: =SUM(F8:F12) -> 0 | H13: =SUM(H9:H12) -> 0 | J13: =SUM(J9:J12) -> 0 | L13: =SUM(L9:L12) -> 0 | N13: =SUM(N9:N12) -> 0 | P13: =SUM(P9:P12) -> 0 | R13: =SUM(R9:R12) -> 0 | T13: =SUM(T9:T12) -> 0 | V13: =SUM(V9:V12) -> 0 | X13: =SUM(X9:X12) -> 0 | Z13: =SUM(Z9:Z12) -> 0 | AB13: =SUM(AB9:AB12) -> 0 | AD13: =SUM(AD9:AD12) -> 0
A16: MONEY OUT - EXPENDITURE
A17: Category
E18: =G18+I18+K18+M18+O18+Q18+S18+U18+W18+Y18+AA18+AC18 -> 0 | F18: =H18+J18+L18+N18+P18+R18+T18+V18+X18++Z18+AB18+AD18 -> 0
E19: =G19+I19+K19+M19+O19+Q19+S19+U19+W19+Y19+AA19+AC19 -> 0 | F19: =H19+J19+L19+N19+P19+R19+T19+V19+X19++Z19+AB19+AD19 -> 0
E20: =G20+I20+K20+M20+O20+Q20+S20+U20+W20+Y20+AA20+AC20 -> 0 | F20: =H20+J20+L20+N20+P20+R20+T20+V20+X20++Z20+AB20+AD20 -> 0
A22: SUB TOTAL | C22: =SUM(C17:C21) -> 0 | E22: =SUM(E17:E21) -> 0 | F22: =SUM(F17:F21) -> 0 | G22: =SUM(G17:G21) -> 0 | H22: =SUM(H17:H21) -> 0 | I22: =SUM(I17:I21) -> 0 | J22: =SUM(J17:J21) -> 0 | K22: =SUM(K17:K21) -> 0 | L22: =SUM(L17:L21) -> 0 | ... AD22: =SUM(AD17:AD21) -> 0
A23: Category
E24: =G24+I24+K24+M24+O24+Q24+S24+U24+W24++Y24+AA24+AC24 -> 0 | F24: =H24+J24+L24+N24+P24+R24+T24+V24+X24++Z24+AB24+AD24 -> 0
E25: =G25+I25+K25+M25+O25+Q25+S25+U25+W25++Y25+AA25+AC25 -> 0 | F25: =H25+J25+L25+N25+P25+R25+T25+V25+X25++Z25+AB25+AD25 -> 0
E26: =G26+I26+K26+M26+O26+Q26+S26+U26+W26++Y26+AA26+AC26 -> 0 | F26: =H26+J26+L26+N26+P26+R26+T26+V26+X26++Z26+AB26+AD26 -> 0
E27: =G27+I27+K27+M27+O27+Q27+S27+U27+W27++Y27+AA27+AC27 -> 0 | F27: =H27+J27+L27+N27+P27+R27+T27+V27+X27++Z27+AB27+AD27 -> 0
E28: =G28+I28+K28+M28+O28+Q28+S28+U28+W28++Y28+AA28+AC28 -> 0 | F28: =H28+J28+L28+N28+P28+R28+T28+V28+X28++Z28+AB28+AD28 -> 0
A30: SUB TOTAL | C30: =SUM(C24:C29) -> 0 | E30: =SUM(E23:E29) -> 0 | F30: =SUM(F23:F29) -> 0 | G30: =SUM(G23:G29) -> 0 | H30: =SUM(H23:H29) -> 0 | I30: =SUM(I23:I29) -> 0 | J30: =SUM(J23:J29) -> 0 | K30: =SUM(K23:K29) -> 0 | L30: =SUM(L23:L29) -> 0 | ... AD30: =SUM(AD23:AD29) -> 0
A31: Other Project Expenses
E32: =G32+I32+K32+M32+O32+Q32+S32+U32+W32++Y32+AA32+AC32 -> 0 | F32: =H32+J32+L32+N32+P32+R32+T32+V32+X32++Z32+AB32+AD32 -> 0
A33: Advertising | E33: =G33+I33+K33+M33+O33+Q33+S33+U33+W33++Y33+AA33+AC33 -> 0 | F33: =H33+J33+L33+N33+P33+R33+T33+V33+X33++Z33+AB33+AD33 -> 0
E34: =G34+I34+K34+M34+O34+Q34+S34+U34+W34++Y34+AA34+AC34 -> 0 | F34: =H34+J34+L34+N34+P34+R34+T34+V34+X34++Z34+AB34+AD34 -> 0
E35: =G35+I35+K35+M35+O35+Q35+S35+U35+W35++Y35+AA35+AC35 -> 0 | F35: =H35+J35+L35+N35+P35+R35+T35+V35+X35++Z35+AB35+AD35 -> 0
A36: Refreshments | E36: =G36+I36+K36+M36+O36+Q36+S36+U36+W36++Y36+AA36+AC36 -> 0 | F36: =H36+J36+L36+N36+P36+R36+T36+V36+X36++Z36+AB36+AD36 -> 0
E37: =G37+I37+K37+M37+O37+Q37+S37+U37+W37++Y37+AA37+AC37 -> 0 | F37: =H37+J37+L37+N37+P37+R37+T37+V37+X37++Z37+AB37+AD37 -> 0
E38: =G38+I38+K38+M38+O38+Q38+S38+U38+W38++Y38+AA38+AC38 -> 0 | F38: =H38+J38+L38+N38+P38+R38+T38+V38+X38++Z38+AB38+AD38 -> 0
E39: =G39+I39+K39+M39+O39+Q39+S39+U39+W39++Y39+AA39+AC39 -> 0 | F39: =H39+J39+L39+N39+P39+R39+T39+V39+X39++Z39+AB39+AD39 -> 0
E40: =G40+I40+K40+M40+O40+Q40+S40+U40+W40++Y40+AA40+AC40 -> 0 | F40: =H40+J40+L40+N40+P40+R40+T40+V40+X40++Z40+AB40+AD40 -> 0
A41: Contingency | E41: =G41+I41+K41+M41+O41+Q41+S41+U41+W41++Y41+AA41+AC41 -> 0 | F41: =H41+J41+L41+N41+P41+R41+T41+V41+X41++Z41+AB41+AD41 -> 0
A43: Other EXPENSES SUB TOTAL | C43: =SUM(C32:C42) -> 0 | E43: =SUM(E32:E42) -> 0 | F43: =SUM(F31:F42) -> 0 | G43: =SUM(G32:G42) -> 0 | H43: =SUM(H32:H42) -> 0 | I43: =SUM(I32:I42) -> 0 | J43: =SUM(J32:J42) -> 0 | K43: =SUM(K32:K42) -> 0 | L43: =SUM(L32:L42) -> 0 | M43: =SUM(M31:M39) -> 0 | N43: =SUM(N31:N41) -> 0 | O43: =SUM(O22:O39) -> 0 | P43: =SUM(P22:P39) -> 0 | Q43: =SUM(Q22:Q39) -> 0 | R43: =SUM(R22:R39) -> 0 | S43: =SUM(S22:S39) -> 0 | T43: =SUM(T22:T39) -> 0 | U43: =SUM(U22:U39) -> 0 | V43: =SUM(V22:V39) -> 0 | ... AD43: =SUM(AD22:AD39) -> 0
A45: Profit
A47: TOTALS OUT | C47: =C22+C30+C43+C45 -> 0 | E47: =E22+E30+E43+E45 -> 0 | F47: =F22+F30+F43+F45 -> 0 | G47: =G22+G30+G43 -> 0 | H47: =H22+H30+H43 -> 0 | I47: =I22+I30+I43 -> 0 | J47: =J22+J30+J43 -> 0 | K47: =K22+K30+K43 -> 0 | L47: =L22+L30+L43 -> 0 | M47: =M22+M30+M43 -> 0 | N47: =N22+N30+N43 -> 0 | ... AD47: =AD22+AD30+AD43 -> 0
A48: BALANCE | B48: BALANCE | C48: =C13-C47 -> 0 | H48: =H13-H47 -> 0 | J48: =J13-J47 -> 0 | L48: =J48+L13-L47 -> 0 | N48: =L48+N13-N47 -> 0 | P48: =P13-P47 -> 0 | R48: =R13-R47 -> 0 | T48: =T13-T47 -> 0 | V48: =V13-V47 -> 0 | X48: =X13-X47 -> 0 | Z48: =Z13-Z47 -> 0 | AB48: =AB13-AB47 -> 0 | AD48: =AD13-AD47 -> 0

Sheet Project Budget example
A1: Project WORKSHOP - Budget 2024/25 | D1: FORECAST TOTALs | E1: ACTUAL TOTALS
A2: Event is in July | C2: TOTAL INCOME | D2: =D14 -> 0 | E2: =E14 -> 4400
C3: TOTAL EXPENSES | D3: =D39 -> 0 | E3: =E48 -> 4315
D4: =D2-D3 -> 0 | E4: =E2-E3 -> 85
D5: AUTO SUM TOTALS | F5: APRIL | H5: MAY | J5: JUNE | L5: JULY | N5: AUGUST | P5: SEPTEMBER | R5: OCTOBER | T5: NOVEMBER | V5: DECEMBER | X5: JANUARY | Z5: FEBRUARY | AB5: MARCH
B6: Notes | C6: BUDGET | D6: FORECAST TOTALs | E6: ACTUAL TOTALS | F6: EXP | G6: ACT | H6: EXP | I6: ACT | J6: EXP | K6: ACT | L6: EXP | M6: ACT | N6: EXP | O6: ACT | P6: EXP | Q6: ACT | R6: EXP | S6: ACT | T6: EXP | U6: ACT | V6: EXP | W6: ACT | X6: EXP | Y6: ACT | Z6: EXP | AA6: ACT | AB6: EXP | AC6: ACT
AD7: Notes
A8: MONEY IN - INCOME
A9: b/f From Budget 2022/23 | B9: N/A | D9: 0 | E9: =K9+M9+O9+Q9+S9+U9+W9++Y9+AA9+AC9 -> 0
A11: Grant Received | C11: 4000 | D11: =F11+H11+J11+L11+N11+P11+R11+T11+V11++X11+Z11+AB11 -> 0 | E11: =G11+I11+K11+M11+O11+Q11+S11+U11+W11++Y11+AA11+AC11 -> 4000 | I11: =C11 -> 4000
A12: Donation | C12: 400 | D12: =F12+H12+J12+L12+N12+P12+R12+T12+V12++X12+Z12+AB12 -> 0 | E12: =G12+I12+K12+M12+O12+Q12+S12+U12+W12++Y12+AA12+AC12 -> 400 | M12: 400
A14: Totals IN | C14: =SUM(C9:C13) -> 4400 | D14: =SUM(D9:D13) -> 0 | E14: =SUM(E9:E13) -> 4400 | G14: =SUM(G10:G13) -> 0 | I14: =SUM(I10:I13) -> 4000 | K14: =SUM(K10:K13) -> 0 | M14: =SUM(M10:M13) -> 400 | O14: =SUM(O10:O13) -> 0 | Q14: =SUM(Q10:Q13) -> 0 | S14: =SUM(S10:S13) -> 0 | U14: =SUM(U10:U13) -> 0 | W14: =SUM(W10:W13) -> 0 | Y14: =SUM(Y10:Y13) -> 0 | AA14: =SUM(AA10:AA13) -> 0 | AC14: =SUM(AC10:AC13) -> 0
A17: MONEY OUT - EXPENDITURE
A18: Project Costs
A19: Artist 1 | C19: 750 | D19: =F19+H19+J19+L19+N19+P19+R19+T19+V19+X19+Z19+AB19 -> 0 | E19: =G19+I19+K19+M19+O19+Q19+S19+U19+W19++Y19+AA19+AC19 -> 750 | K19: =C19 -> 750
A20: Artist 2 | C20: 750 | D20: =F20+H20+J20+L20+N20+P20+R20+T20+V20+X20+Z20+AB20 -> 0 | E20: =G20+I20+K20+M20+O20+Q20+S20+U20+W20++Y20+AA20+AC20 -> 750 | M20: =C20 -> 750
A21: Extra & Assitant | C21: 600 | D21: =F21+H21+J21+L21+N21+P21+R21+T21+V21+X21+Z21+AB21 -> 0 | E21: =G21+I21+K21+M21+O21+Q21+S21+U21+W21++Y21+AA21+AC21 -> 600 | M21: =C21 -> 600
A23: SALARY SUB TOTAL | C23: =SUM(C18:C22) -> 2100 | D23: =SUM(D18:D22) -> 0 | E23: =SUM(E19:E22) -> 2100 | F23: =SUM(F18:F22) -> 0 | G23: =SUM(G18:G22) -> 0 | H23: =SUM(H18:H22) -> 0 | I23: =SUM(I18:I22) -> 0 | J23: =SUM(J18:J22) -> 0 | K23: =SUM(K18:K22) -> 750 | L23: =SUM(L18:L22) -> 0 | M23: =SUM(M18:M22) -> 1350 | ... AC23: =SUM(AC18:AC22) -> 0
A24: Project Materials
A25: Fabric | C25: 250 | D25: =F25+H25+J25+L25+N25+P25+R25+T25+V25++X25+Z25+AB25 -> 0 | E25: =G25+I25+K25+M25+O25+Q25+S25+U25+W25++Y25+AA25+AC25 -> 230 | K25: =230 -> 230
A26: Thread | C26: 50 | D26: =F26+H26+J26+L26+N26+P26+R26+T26+V26++X26+Z26+AB26 -> 0 | E26: =G26+I26+K26+M26+O26+Q26+S26+U26+W26++Y26+AA26+AC26 -> 50 | K26: 50
A27: needles | C27: 20 | D27: =F27+H27+J27+L27+N27+P27+R27+T27+V27++X27+Z27+AB27 -> 0 | E27: =G27+I27+K27+M27+O27+Q27+S27+U27+W27++Y27+AA27+AC27 -> 15 | K27: 15
A28: Scissors | C28: 20 | D28: =F28+H28+J28+L28+N28+P28+R28+T28+V28++X28+Z28+AB28 -> 0 | E28: =G28+I28+K28+M28+O28+Q28+S28+U28+W28++Y28+AA28+AC28 -> 20 | M28: =20 -> 20
A29: Others | B29: Paper & pencils | C29: 30 | D29: =F29+H29+J29+L29+N29+P29+R29+T29+V29++X29+Z29+AB29 -> 0 | E29: =G29+I29+K29+M29+O29+Q29+S29+U29+W29++Y29+AA29+AC29 -> 20 | M29: 20
A31: PROJECT EXPENSES SUB TOTAL | C31: =SUM(C25:C30) -> 370 | D31: =SUM(D24:D30) -> 0 | E31: =SUM(E24:E30) -> 335 | F31: =SUM(F24:F30) -> 0 | G31: =SUM(G24:G30) -> 0 | H31: =SUM(H24:H30) -> 0 | I31: =SUM(I24:I30) -> 0 | J31: =SUM(J24:J30) -> 0 | K31: =SUM(K24:K30) -> 295 | ... AC31: =SUM(AC24:AC30) -> 0
A32: Other Project Expenses
A33: Hire of space | C33: 500 | D33: =F33+H33+J33+L33+N33+P33+R33+T33+V33++X33+Z33+AB33 -> 0 | E33: =G33+I33+K33+M33+O33+Q33+S33+U33+W33++Y33+AA33+AC33 -> 500 | I33: =C33 -> 500
A34: Advertising
A35: Facebook posts | C35: 50 | D35: =F35+H35+J35+L35+N35+P35+R35+T35+V35++X35+Z35+AB35 -> 0 | E35: =G35+I35+K35+M35+O35+Q35+S35+U35+W35++Y35+AA35+AC35 -> 50 | I35: 25 | K35: 25
A36: Instagram Reels/ Stories | C36: 0 | D36: =F36+H36+J36+L36+N36+P36+R36+T36+V36++X36+Z36+AB36 -> 0 | E36: =G36+I36+K36+M36+O36+Q36+S36+U36+W36++Y36+AA36+AC36 -> 0
A37: Refreshments
A38: Soft Drinks, Tea & Coffee, milk | B38: Tesco | C38: 15 | D38: =F38+H38+J38+L38+N38+P38+R38+T38+V38++X38+Z38+AB38 -> 0 | E38: =G38+I38+K38+M38+O38+Q38+S38+U38+W38++Y38+AA38+AC38 -> 15 | M38: 15
A39: Tea Break - biscuits, cakes | B39: Tesco | C39: 15 | D39: =F39+H39+J39+L39+N39+P39+R39+T39+V39++X39+Z39+AB39 -> 0 | E39: =G39+I39+K39+M39+O39+Q39+S39+U39+W39++Y39+AA39+AC39 -> 15 | M39: 15
A40: Lunch - Platters delivered from Café | C40: 100 | D40: =F40+H40+J40+L40+N40+P40+R40+T40+V40++X40+Z40+AB40 -> 0 | E40: =G40+I40+K40+M40+O40+Q40+S40+U40+W40++Y40+AA40+AC40 -> 100 | K40: 50 | M40: 50
A42: Contingency | B42: Petrol to get there | C42: 100 | D42: =F42+H42+J42+L42+N42+P42+R42+T42+V42++X42+Z42+AB42 -> 0 | E42: =G42+I42+K42+M42+O42+Q42+S42+U42+W42++Y42+AA42+AC42 -> 50 | M42: 50
A44: Other EXPENSES SUB TOTAL | C44: =SUM(C33:C43) -> 780 | D44: =SUM(D33:D43) -> 0 | E44: =SUM(E32:E43) -> 730 | F44: =SUM(F33:F43) -> 0 | G44: =SUM(G33:G43) -> 0 | H44: =SUM(H33:H43) -> 0 | I44: =SUM(I33:I43) -> 525 | J44: =SUM(J33:J43) -> 0 | K44: =SUM(K33:K43) -> 75 | L44: =SUM(L32:L40) -> 0 | M44: =SUM(M32:M42) -> 130 | N44: =SUM(N23:N40) -> 0 | O44: =SUM(O23:O40) -> 0 | P44: =SUM(P23:P40) -> 0 | Q44: =SUM(Q23:Q40) -> 0 | R44: =SUM(R23:R40) -> 0 | S44: =SUM(S23:S40) -> 0 | T44: =SUM(T23:T40) -> 0 | U44: =SUM(U23:U40) -> 0 | ... AC44: =SUM(AC23:AC40) -> 0
A46: Profit - My money EARNED | C46: 1150 | D46: =F46+H46+J46+L46+N46+P46+R46+T46+V46++X46+Z46+AB46 -> 1150 | E46: =G46+I46+K46+M46+O46+Q46+S46+U46+W46++Y46+AA46+AC46 -> 1150 | L46: =C46 -> 1150 | M46: =C46 -> 1150
A48: TOTALS OUT | C48: =C23+C31+C44+C46 -> 4400 | D48: =D23+D31+D44+D46 -> 1150 | E48: =E23+E31+E44+E46 -> 4315 | F48: =F23+F31+F44 -> 0 | G48: =G23+G31+G44 -> 0 | H48: =H23+H31+H44 -> 0 | I48: =I23+I31+I44 -> 525 | J48: =J23+J31+J44 -> 0 | K48: =K23+K31+K44 -> 1120 | L48: =L23+L31+L44 -> 0 | M48: =M23+M31+M44+M46 -> 2670 | N48: =N23+N31+N44 -> 0 | O48: =O23+O31+O44 -> 0 | P48: =P23+P31+P44 -> 0 | Q48: =Q23+Q31+Q44 -> 0 | R48: =R23+R31+R44 -> 0 | S48: =S23+S31+S44 -> 0 | T48: =T23+T31+T44 -> 0 | U48: =U23+U31+U44 -> 0 | ... AC48: =AC23+AC31+AC44 -> 0
B49: BALANCE | C49: =C14-C48 -> 0 | G49: =G14-G48 -> 0 | I49: =I14-I48 -> 3475 | K49: =I49+K14-K48 -> 2355 | M49: =K49+M14-M48 -> 85 | S49: =S14-S48 -> 0 | U49: =U14-U48 -> 0 | W49: =W14-W48 -> 0 | Y49: =Y14-Y48 -> 0 | AA49: =AA14-AA48 -> 0 | AC49: =AC14-AC48 -> 0 | AE49: Unspent Balance

Sheet Enterprise Budget example
A1: ENTERPRISE ANNUAL Budget 2023/24
E3: AUTO SUM TOTALS | G3: APRIL | I3: MAY | K3: JUNE | M3: JULY | O3: AUGUST | Q3: SEPTEMBER | S3: OCTOBER | U3: NOVEMBER | W3: DECEMBER | Y3: JANUARY | AA3: FEBRUARY | AC3: MARCH | AE3: AUTO SUM TOTALS
B4: Notes | C4: Annual Budget | D4: MOS Budget | E4: FORECAST TOTALs | F4: ACTUAL TOTALS | G4: EXP | H4: ACT | I4: EXP | J4: ACT | K4: EXP | L4: ACT | M4: EXP | N4: ACT | O4: EXP | P4: ACT | Q4: EXP | R4: ACT | S4: EXP | T4: ACT | U4: EXP | V4: ACT | W4: EXP | X4: ACT | Y4: EXP | Z4: ACT | AA4: EXP | AB4: ACT | AC4: EXP | AD4: ACT | AE4: FORECAST TOTALs | AF4: ACTUAL TOTALS
AG5: Notes
A6: MONEY IN - INCOME
A8: Quartly Workshop Grant | B8: Run 4 a year | C8: ='Project Budget example'!C11*4 -> 16000 | D8: Var | E8: =G8+I8+K8+M8+O8+Q8+S8+U8+W8++Y8+AA8+AC8 -> 12000 | F8: =H8+J8+L8+N8+P8+R8+T8+V8+X8++Z8+AB8+AD8 -> 4000 | H8: 4000 | M8: 4000 | S8: 4000 | Y8: 4000 | AE8: =G8+I8+K8+M8+O8+Q8+S8+U8+W8+Y8+AA8+AC8 -> 12000 | AF8: =H8+J8+L8+N8+P8+R8+T8+V8+X8+Z8+AB8+AD8 -> 4000
A10: Art Fair Sales | B10: Regular Art fair stall | C10: 2000 | D10: Var | E10: =G10+I10+K10+M10+O10+Q10+S10+U10+W10++Y10+AA10+AC10 -> 1250 | F10: =H10+J10+L10+N10+P10+R10+T10+V10+X10++Z10+AB10+AD10 -> 750 | H10: 250 | J10: 250 | L10: 250 | M10: 250 | O10: 100 | Q10: 250 | S10: 300 | AC10: 350 | AE10: =G10+I10+K10+M10+O10+Q10+S10+U10+W10+Y10+AA10+AC10 -> 1250 | AF10: =H10+J10+L10+N10+P10+R10+T10+V10+X10+Z10+AB10+AD10 -> 750
A11: Online Sales | B11: Website sales | C11: 4000 | D11: Var | E11: =G11+I11+K11+M11+O11+Q11+S11+U11+W11++Y11+AA11+AC11 -> 4000 | F11: =H11+J11+L11+N11+P11+R11+T11+V11+X11++Z11+AB11+AD11 -> 0 | U11: 2000 | W11: 1000 | Y11: 500 | AA11: 500 | AE11: =G11+I11+K11+M11+O11+Q11+S11+U11+W11+Y11+AA11+AC11 -> 4000 | AF11: =H11+J11+L11+N11+P11+R11+T11+V11+X11+Z11+AB11+AD11 -> 0
A12: Donation | C12: ='Project Budget example'!C12 -> 400 | D12: Var | E12: =G12+I12+K12+M12+O12+Q12+S12+U12+W12++Y12+AA12+AC12 -> 0 | F12: =H12+J12+L12+N12+P12+R12+T12+V12+X12++Z12+AB12+AD12 -> 400 | L12: =C12 -> 400 | AE12: =G12+I12+K12+M12+O12+Q12+S12+U12+W12+Y12+AA12+AC12 -> 0 | AF12: =H12+J12+L12+N12+P12+R12+T12+V12+X12+Z12+AB12+AD12 -> 400
A15: Totals IN | C15: =SUM(C7:C14) -> 22400 | E15: =SUM(E7:E14) -> 17250 | F15: =SUM(F7:F14) -> 5150 | G15: =SUM(G7:G14) -> 0 | H15: =SUM(H7:H14) -> 4250 | I15: =SUM(I7:I14) -> 0 | J15: =SUM(J7:J14) -> 250 | K15: =SUM(K7:K14) -> 0 | L15: =SUM(L7:L14) -> 650 | ... AF15: =SUM(AF7:AF14) -> 5150
F16: =E15+F15 -> 22400 | AF16: =AE15+AF15 -> 22400
A18: MONEY OUT - EXPENDITURE
A19: SPACE & People
A20: Studio Rent | C20: =D20*12 -> 2400 | D20: 200 | E20: =G20+I20+K20+M20+O20+Q20+S20+U20+W20+Y20+AA20+AC20 -> 1600 | F20: =H20+J20+L20+N20+P20+R20+T20+V20+X20++Z20+AB20+AD20 -> 400 | H20: 100 | J20: 100 | L20: 100 | N20: 100 | O20: =D20 -> 200 | Q20: =D20 -> 200 | S20: =D20 -> 200 | U20: =D20 -> 200 | W20: =D20 -> 200 | Y20: =D20 -> 200 | AA20: =D20 -> 200 | AC20: =D20 -> 200 | AE20: =G20+I20+K20+M20+O20+Q20+S20+U20+W20+Y20+AA20+AC20 -> 1600 | AF20: =H20+J20+L20+N20+P20+R20+T20+V20+X20+Z20+AB20+AD20 -> 400
A22: Hire of space for workshops | C22: 2000 | E22: =G22+I22+K22+M22+O22+Q22+S22+U22+W22+Y22+AA22+AC22 -> 1500 | F22: =H22+J22+L22+N22+P22+R22+T22+V22+X22++Z22+AB22+AD22 -> 500 | J22: 500 | O22: 500 | U22: 500 | AA22: 500 | AE22: =G22+I22+K22+M22+O22+Q22+S22+U22+W22+Y22+AA22+AC22 -> 1500 | AF22: =H22+J22+L22+N22+P22+R22+T22+V22+X22+Z22+AB22+AD22 -> 500
A23: Fees for Workshop Artists | B23: 2 @£750 a sessioin | C23: =750*8 -> 6000 | E23: =G23+I23+K23+M23+O23+Q23+S23+U23+W23+Y23+AA23+AC23 -> 2250 | F23: =H23+J23+L23+N23+P23+R23+T23+V23+X23++Z23+AB23+AD23 -> 3000 | H23: 750 | L23: 750 | M23: 750 | R23: 750 | S23: 750 | X23: 750 | Y23: 750 | AE23: =G23+I23+K23+M23+O23+Q23+S23+U23+W23+Y23+AA23+AC23 -> 2250 | AF23: =H23+J23+L23+N23+P23+R23+T23+V23+X23+Z23+AB23+AD23 -> 3000
A24: Assistant at workshops | C24: ='Project Budget example'!C21*4 -> 2400 | E24: =G24+I24+K24+M24+O24+Q24+S24+U24+W24+Y24+AA24+AC24 -> 1800 | F24: =H24+J24+L24+N24+P24+R24+T24+V24+X24++Z24+AB24+AD24 -> 600 | H24: 600 | M24: =600 -> 600 | O24: =D24 -> 0 | Q24: =D24 -> 0 | S24: =600 -> 600 | U24: =D24 -> 0 | W24: =D24 -> 0 | Y24: =600 -> 600 | AA24: =D24 -> 0 | AC24: =D24 -> 0 | AE24: =G24+I24+K24+M24+O24+Q24+S24+U24+W24+Y24+AA24+AC24 -> 1800 | AF24: =H24+J24+L24+N24+P24+R24+T24+V24+X24+Z24+AB24+AD24 -> 600
A26: SUB TOTAL | C26: =SUM(C19:C25) -> 12800 | E26: =SUM(E19:E25) -> 7150 | F26: =SUM(F19:F25) -> 4500 | G26: =SUM(G19:G25) -> 0 | H26: =SUM(H19:H25) -> 1450 | I26: =SUM(I19:I25) -> 0 | J26: =SUM(J19:J25) -> 600 | K26: =SUM(K19:K25) -> 0 | L26: =SUM(L19:L25) -> 850 | ... AF26: =SUM(AF19:AF25) -> 4500
A27: ADMIN Costs
A28: Insurance | B28: Annual cost | C28: 200 | D28: =C28/12 -> 16.666667 | E28: =G28+I28+K28+M28+O28+Q28+S28+U28+W28+Y28+AA28+AC28 -> 133.33333 | F28: =H28+J28+L28+N28+P28+R28+T28+V28+X28++Z28+AB28+AD28 -> 666.68 | H28: 166.67 | J28: 166.67 | L28: 166.67 | N28: 166.67 | O28: =D28 -> 16.666667 | Q28: =D28 -> 16.666667 | S28: =D28 -> 16.666667 | U28: =D28 -> 16.666667 | W28: =D28 -> 16.666667 | Y28: =D28 -> 16.666667 | AA28: =D28 -> 16.666667 | AC28: =D28 -> 16.666667 | AE28: =G28+I28+K28+M28+O28+Q28+S28+U28+W28+Y28+AA28+AC28 -> 133.33333 | AF28: =H28+J28+L28+N28+P28+R28+T28+V28+X28+Z28+AB28+AD28 -> 666.68
A29: Online shop Subscription | B29: Monthly fee | C29: 300 | D29: =C29/12 -> 25 | E29: =G29+I29+K29+M29+O29+Q29+S29+U29+W29+Y29+AA29+AC29 -> 225 | F29: =H29+J29+L29+N29+P29+R29+T29+V29+X29++Z29+AB29+AD29 -> 75 | H29: 25 | J29: 25 | L29: 25 | M29: =D29 -> 25 | O29: =D29 -> 25 | Q29: =D29 -> 25 | S29: =D29 -> 25 | U29: =D29 -> 25 | W29: =D29 -> 25 | Y29: =D29 -> 25 | AA29: =D29 -> 25 | AC29: =D29 -> 25 | AE29: =G29+I29+K29+M29+O29+Q29+S29+U29+W29+Y29+AA29+AC29 -> 225 | AF29: =H29+J29+L29+N29+P29+R29+T29+V29+X29+Z29+AB29+AD29 -> 75
A30: Website | B30: Annual cost | C30: 200 | E30: =G30+I30+K30+M30+O30+Q30+S30+U30+W30+Y30+AA30+AC30 -> 200 | F30: =H30+J30+L30+N30+P30+R30+T30+V30+X30++Z30+AB30+AD30 -> 0 | Q30: =C30 -> 200
A31: Stationary & Printer ink | B31: Paper & pencils | C31: 150 | D31: =C31/12 -> 12.5 | E31: =G31+I31+K31+M31+O31+Q31+S31+U31+W31+Y31+AA31+AC31 -> 112.5 | F31: =H31+J31+L31+N31+P31+R31+T31+V31+X31++Z31+AB31+AD31 -> 30 | H31: 30 | M31: =D31 -> 12.5 | O31: =D31 -> 12.5 | Q31: =D31 -> 12.5 | S31: =D31 -> 12.5 | U31: =D31 -> 12.5 | W31: =D31 -> 12.5 | Y31: =D31 -> 12.5 | AA31: =D31 -> 12.5 | AC31: =D31 -> 12.5 | AE31: =G31+I31+K31+M31+O31+Q31+S31+U31+W31+Y31+AA31+AC31 -> 112.5 | AF31: =H31+J31+L31+N31+P31+R31+T31+V31+X31+Z31+AB31+AD31 -> 30
A33: ADMIN SUB TOTAL | C33: =SUM(C27:C32) -> 850 | E33: =SUM(E27:E32) -> 670.83333 | F33: =SUM(F27:F32) -> 771.68 | G33: =SUM(G27:G32) -> 0 | H33: =SUM(H27:H32) -> 221.67 | I33: =SUM(I27:I32) -> 0 | J33: =SUM(J27:J32) -> 191.67 | K33: =SUM(K27:K32) -> 0 | L33: =SUM(L27:L32) -> 191.67 | ... AF33: =SUM(AF27:AF32) -> 771.68
A34: Materials & Supplies
A35: Fabric | C35: 800 | D35: 15 | E35: =G35+I35+K35+M35+O35+Q35+S35+U35+W35+Y35+AA35+AC35 -> 700 | F35: =H35+J35+L35+N35+P35+R35+T35+V35+X35++Z35+AB35+AD35 -> 100 | L35: 100 | O35: 200 | Q35: 200 | W35: 150 | AC35: 150 | AE35: =G35+I35+K35+M35+O35+Q35+S35+U35+W35+Y35+AA35+AC35 -> 700 | AF35: =H35+J35+L35+N35+P35+R35+T35+V35+X35+Z35+AB35+AD35 -> 100
A36: Thread | C36: 200 | D36: =C36/12 -> 16.666667 | E36: =G36+I36+K36+M36+O36+Q36+S36+U36+W36+Y36+AA36+AC36 -> 200 | F36: =H36+J36+L36+N36+P36+R36+T36+V36+X36++Z36+AB36+AD36 -> 0 | Q36: =C36/2 -> 100 | Y36: =C36/2 -> 100 | AE36: =G36+I36+K36+M36+O36+Q36+S36+U36+W36+Y36+AA36+AC36 -> 200 | AF36: =H36+J36+L36+N36+P36+R36+T36+V36+X36+Z36+AB36+AD36 -> 0
A37: TOOLS | B37: Needles, scissors etc. | C37: 100 | D37: =C37/10 -> 10 | E37: =G37+I37+K37+M37+O37+Q37+S37+U37+W37+Y37+AA37+AC37 -> 70 | F37: =H37+J37+L37+N37+P37+R37+T37+V37+X37++Z37+AB37+AD37 -> 30 | L37: 30 | S37: 20 | Y37: 25 | AC37: 25 | AE37: =G37+I37+K37+M37+O37+Q37+S37+U37+W37+Y37+AA37+AC37 -> 70 | AF37: =H37+J37+L37+N37+P37+R37+T37+V37+X37+Z37+AB37+AD37 -> 30
A39: MATERIALS & SUPPLIES SUB TOTAL | C39: =SUM(C34:C38) -> 1100 | E39: =SUM(E34:E38) -> 970 | F39: =SUM(F34:F38) -> 130 | G39: =SUM(G34:G38) -> 0 | H39: =SUM(H34:H38) -> 0 | I39: =SUM(I34:I38) -> 0 | J39: =SUM(J34:J38) -> 0 | K39: =SUM(K34:K38) -> 0 | L39: =SUM(L34:L38) -> 130 | ... AF39: =SUM(AF34:AF38) -> 130
A40: OTHER EXPENSES
A41: Advertising
A42: Online | B42: Facebook/Insta Boosts | C42: 200 | D42: =C42/12 -> 16.666667 | E42: =G42+I42+K42+M42+O42+Q42+S42+U42+W42++Y42+AA42+AC42 -> 150 | F42: =H42+J42+L42+N42+P42+R42+T42+V42+X42++Z42+AB42+AD42 -> 50.01 | H42: 16.67 | J42: 16.67 | L42: 16.67 | M42: =D42 -> 16.666667 | O42: =D42 -> 16.666667 | Q42: =D42 -> 16.666667 | S42: =D42 -> 16.666667 | U42: =D42 -> 16.666667 | W42: =D42 -> 16.666667 | Y42: =D42 -> 16.666667 | AA42: =D42 -> 16.666667 | AC42: =D42 -> 16.666667 | AE42: =G42+I42+K42+M42+O42+Q42+S42+U42+W42+Y42+AA42+AC42 -> 150 | AF42: =H42+J42+L42+N42+P42+R42+T42+V42+X42+Z42+AB42+AD42 -> 50.01
A43: Workshop Advertising | C43: ='Project Budget example'!C35*4 -> 200 | E43: =G43+I43+K43+M43+O43+Q43+S43+U43+W43++Y43+AA43+AC43 -> 0 | F43: =H43+J43+L43+N43+P43+R43+T43+V43+X43++Z43+AB43+AD43 -> 0 | AE43: =G43+I43+K43+M43+O43+Q43+S43+U43+W43+Y43+AA43+AC43 -> 0 | AF43: =H43+J43+L43+N43+P43+R43+T43+V43+X43+Z43+AB43+AD43 -> 0
A44: Local paper/publications | C44: 300 | E44: =G44+I44+K44+M44+O44+Q44+S44+U44+W44++Y44+AA44+AC44 -> 0 | F44: =H44+J44+L44+N44+P44+R44+T44+V44+X44++Z44+AB44+AD44 -> 0 | AE44: =G44+I44+K44+M44+O44+Q44+S44+U44+W44+Y44+AA44+AC44 -> 0 | AF44: =H44+J44+L44+N44+P44+R44+T44+V44+X44+Z44+AB44+AD44 -> 0
A46: Refreshements
A47: Workshops | C47: =('Project Budget example'!C38+'Project Budget example'!C39+'Project Budget example'!C40)*4 -> 520 | E47: =G47+I47+K47+M47+O47+Q47+S47+U47+W47++Y47+AA47+AC47 -> 0 | F47: =H47+J47+L47+N47+P47+R47+T47+V47+X47++Z47+AB47+AD47 -> 0 | AE47: =G47+I47+K47+M47+O47+Q47+S47+U47+W47+Y47+AA47+AC47 -> 0 | AF47: =H47+J47+L47+N47+P47+R47+T47+V47+X47+Z47+AB47+AD47 -> 0
A48: Working lunches | B48: Annual meet with funder | C48: 100 | E48: =G48+I48+K48+M48+O48+Q48+S48+U48+W48++Y48+AA48+AC48 -> 0 | F48: =H48+J48+L48+N48+P48+R48+T48+V48+X48++Z48+AB48+AD48 -> 0 | AE48: =G48+I48+K48+M48+O48+Q48+S48+U48+W48+Y48+AA48+AC48 -> 0 | AF48: =H48+J48+L48+N48+P48+R48+T48+V48+X48+Z48+AB48+AD48 -> 0
E49: =G49+I49+K49+M49+O49+Q49+S49+U49+W49++Y49+AA49+AC49 -> 0 | F49: =H49+J49+L49+N49+P49+R49+T49+V49+X49++Z49+AB49+AD49 -> 0 | AE49: =G49+I49+K49+M49+O49+Q49+S49+U49+W49+Y49+AA49+AC49 -> 0 | AF49: =H49+J49+L49+N49+P49+R49+T49+V49+X49+Z49+AB49+AD49 -> 0
A50: Travel
A51: Train | E51: =G51+I51+K51+M51+O51+Q51+S51+U51+W51++Y51+AA51+AC51 -> 0 | F51: =H51+J51+L51+N51+P51+R51+T51+V51+X51++Z51+AB51+AD51 -> 0 | AE51: =G51+I51+K51+M51+O51+Q51+S51+U51+W51+Y51+AA51+AC51 -> 0 | AF51: =H51+J51+L51+N51+P51+R51+T51+V51+X51+Z51+AB51+AD51 -> 0
...

Sheet BLANK Pers Budget
A1: Budget 2024/25 | E1: FORECAST TOTALs | F1: ACTUAL TOTALS
D2: TOTAL INCOME | E2: =E14 -> 0 | F2: =F14 -> 0
D3: TOTAL EXPENSES | E3: =E39 -> 0 | F3: =F39 -> 0
E4: =E2-E3 -> 0 | F4: =F2-F3 -> 0
C5: YEAR TOTALS | G5: APRIL | I5: MAY | K5: JUNE | M5: JULY | O5: AUGUST | Q5: SEPTEMBER | S5: OCTOBER | U5: NOVEMBER | W5: DECEMBER | Y5: JANUARY | AA5: FEBRUARY | AC5: MARCH
B6: Notes | C6: Annual Budget | D6: MOS Budget | E6: FORECAST TOTALs | F6: ACTUAL TOTALS | G6: EXP | H6: ACT | I6: EXP | J6: ACT | K6: EXP | L6: ACT | M6: EXP | N6: ACT | O6: EXP | P6: ACT | Q6: EXP | R6: ACT | S6: EXP | T6: ACT | U6: EXP | V6: ACT | W6: EXP | X6: ACT | Y6: EXP | Z6: ACT | AA6: EXP | AB6: ACT | AC6: EXP | AD6: ACT
A7: MONEY IN - INCOME
E9: =G9+I9+K9+M9+O9+Q9+S9+U9+W9+Y9+AA9+AC9 -> 0 | F9: =H9+J9+L9+N9+P9+R9+T9+V9+X9++Z9+AB9+AD9 -> 0
E10: =G10+I10+K10+M10+O10+Q10+S10+U10+W10++Y10+AA10+AC10 -> 0 | F10: =H10+J10+L10+N10+P10+R10+T10+V10+X10++Z10+AB10+AD10 -> 0
E11: =G11+I11+K11+M11+O11+Q11+S11+U11+W11++Y11+AA11+AC11 -> 0 | F11: =H11+J11+L11+N11+P11+R11+T11+V11+X11++Z11+AB11+AD11 -> 0
E12: =G12+I12+K12+M12+O12+Q12+S12+U12+W12++Y12+AA12+AC12 -> 0 | F12: =H12+J12+L12+N12+P12+R12+T12+V12+X12++Z12+AB12+AD12 -> 0
A14: Totals IN | C14: =SUM(C8:C13) -> 0 | D14: =SUM(D8:D13) -> 0 | E14: =SUM(E8:E13) -> 0 | F14: =SUM(F8:F13) -> 0 | G14: =SUM(G9:G13) -> 0 | H14: =SUM(H9:H13) -> 0 | I14: =SUM(I9:I13) -> 0 | J14: =SUM(J9:J13) -> 0 | K14: =SUM(K9:K13) -> 0 | L14: =SUM(L9:L13) -> 0 | M14: =SUM(M9:M13) -> 0 | N14: =SUM(N9:N13) -> 0 | ... AD14: =SUM(AD9:AD13) -> 0
F15: =E14-F14 -> 0
A17: MONEY OUT - EXPENDITURE
A18: SAVING
E19: =G19+I19+K19+M19+O19+Q19+S19+U19+W19+Y19+AA19+AC19 -> 0 | F19: =H19+J19+L19+N19+P19+R19+T19+V19+X19++Z19+AB19+AD19 -> 0
E20: =G20+I20+K20+M20+O20+Q20+S20+U20+W20+Y20+AA20+AC20 -> 0 | F20: =H20+J20+L20+N20+P20+R20+T20+V20+X20++Z20+AB20+AD20 -> 0
E21: =G21+I21+K21+M21+O21+Q21+S21+U21+W21+Y21+AA21+AC21 -> 0 | F21: =H21+J21+L21+N21+P21+R21+T21+V21+X21++Z21+AB21+AD21 -> 0
A23: SAVING SUB TOTAL | C23: =SUM(C18:C22) -> 0 | D23: =SUM(D18:D22) -> 0 | E23: =SUM(E18:E22) -> 0 | F23: =SUM(F18:F22) -> 0
A24: Living
E25: =G25+I25+K25+M25+O25+Q25+S25+U25+W25+Y25+AA25+AC25 -> 0 | F25: =H25+J25+L25+N25+P25+R25+T25+V25+X25++Z25+AB25+AD25 -> 0
E26: =G26+I26+K26+M26+O26+Q26+S26+U26+W26+Y26+AA26+AC26 -> 0 | F26: =H26+J26+L26+N26+P26+R26+T26+V26+X26++Z26+AB26+AD26 -> 0
E27: =G27+I27+K27+M27+O27+Q27+S27+U27+W27+Y27+AA27+AC27 -> 0 | F27: =H27+J27+L27+N27+P27+R27+T27+V27+X27++Z27+AB27+AD27 -> 0
E28: =G28+I28+K28+M28+O28+Q28+S28+U28+W28+Y28+AA28+AC28 -> 0 | F28: =H28+J28+L28+N28+P28+R28+T28+V28+X28++Z28+AB28+AD28 -> 0
A30: LIVING Costs SUB TOTAL | C30: =SUM(C24:C29) -> 0 | D30: =SUM(D24:D29) -> 0 | E30: =SUM(E24:E29) -> 0 | F30: =SUM(F24:F29) -> 0
A31: SPENDING
E32: =G32+I32+K32+M32+O32+Q32+S32+U32+W32++Y32+AA32+AC32 -> 0 | F32: =H32+J32+L32+N32+P32+R32+T32+V32+X32++Z32+AB32+AD32 -> 0
E33: =G33+I33+K33+M33+O33+Q33+S33+U33+W33++Y33+AA33+AC33 -> 0 | F33: =H33+J33+L33+N33+P33+R33+T33+V33+X33++Z33+AB33+AD33 -> 0
E34: =G34+I34+K34+M34+O34+Q34+S34+U34+W34++Y34+AA34+AC34 -> 0 | F34: =H34+J34+L34+N34+P34+R34+T34+V34+X34++Z34+AB34+AD34 -> 0
A36: SPENDING SUB TOTAL | C36: =SUM(C32:C35) -> 0 | D36: =SUM(D32:D35) -> 0 | E36: =SUM(E31:E35) -> 0 | F36: =SUM(F31:F35) -> 0 | G36: =SUM(G31:G35) -> 0 | H36: =SUM(H31:H35) -> 0 | I36: =SUM(I31:I35) -> 0 | J36: =SUM(J31:J35) -> 0 | K36: =SUM(K31:K35) -> 0 | L36: =SUM(L31:L35) -> 0 | ... AD36: =SUM(AD31:AD35) -> 0
A39: TOTALS OUT | C39: =C23+C30+C36 -> 0 | D39: =D30+D36 -> 0 | E39: =E23+E30+E36 -> 0 | F39: =F30+F36 -> 0 | G39: =G30+G36 -> 0 | H39: =H30+H36 -> 0 | I39: =I30+I36 -> 0 | J39: =J30+J36 -> 0 | K39: =K30+K36 -> 0 | L39: =L30+L36 -> 0 | M39: =M30+M36 -> 0 | ... AD39: =AD30+AD36 -> 0
A40: BALANCE | B40: BALANCE | C40: =C14-C39 -> 0 | H40: =H14-H39 -> 0 | J40: =J14-J39 -> 0 | L40: =L14-L39 -> 0 | N40: =N14-N39 -> 0 | P40: =P14-P39 -> 0 | R40: =R14-R39 -> 0 | T40: =T14-T39 -> 0 | V40: =V14-V39 -> 0 | X40: =X14-X39 -> 0 | Z40: =Z14-Z39 -> 0 | AB40: =AB14-AB39 -> 0 | AD40: =AD14-AD39 -> 0

Sheet Freelance Budget example
A1: ANNUAL Budget 2023/24
C2: Annual Budget | D2: Actual SPEND | E2: Outstanding BAL
A3: Investments | B3: =C3/C20 -> 0.041165942 | C3: =C29 -> 1288 | D3: =F29 -> 379.32 | E3: =C3-D3 -> 908.68
A4: Savings | B4: =C4/C20 -> 0.090130401 | C4: =C35 -> 2820 | D4: =F35 -> 705 | E4: =C4-D4 -> 2115
A5: Fixed Costs | B5: =C5/C20 -> 0.69546663 | C5: =C46 -> 21759.76 | D5: =F46 -> 5524.94 | E5: =C5-D5 -> 16234.82
A6: Guilt Free Spending | B6: =C6/C20 -> 0.17259013 | C6: =C52 -> 5400 | D6: =F52 -> 765 | E6: =C6-D6 -> 4635
E8: AUTO SUM TOTALS | G8: APRIL | I8: MAY | K8: JUNE | M8: JULY | O8: AUGUST | Q8: SEPTEMBER | S8: OCTOBER | U8: NOVEMBER | W8: DECEMBER | Y8: JANUARY | AA8: FEBRUARY | AC8: MARCH
B9: Notes | C9: Annual Budget | D9: MOS Budget | E9: FORECAST TOTALs | F9: ACTUAL TOTALS | G9: EXP | H9: ACT | I9: EXP | J9: ACT | K9: EXP | L9: ACT | M9: EXP | N9: ACT | O9: EXP | P9: ACT | Q9: EXP | R9: ACT | S9: EXP | T9: ACT | U9: EXP | V9: ACT | W9: EXP | X9: ACT | Y9: EXP | Z9: ACT | AA9: EXP | AB9: ACT | AC9: EXP | AD9: ACT
A11: MONEY IN - INCOME
A13: Employed Earnings | B13: JOB | C13: =20000+688 -> 20688 | D13: =C13/12 -> 1724 | E13: =G13+I13+K13+M13+O13+Q13+S13+U13+W13+Y13+AA13+AC13 -> 15516 | F13: =H13+J13+L13+N13+P13+R13+T13+V13+X13++Z13+AB13+AD13 -> 5172 | H13: =D13 -> 1724 | J13: =D13 -> 1724 | L13: =D13 -> 1724 | M13: =D13 -> 1724 | O13: =D13 -> 1724 | Q13: =D13 -> 1724 | S13: =D13 -> 1724 | U13: =D13 -> 1724 | W13: =D13 -> 1724 | Y13: =D13 -> 1724 | AA13: =D13 -> 1724 | AC13: =D13 -> 1724
A15: Freelance Income
A16: Workshop Income | B16: Agreed til 2026 | C16: ='Project Budget example'!C46*4 -> 4600 | D16: Var | E16: =G16+I16+K16+M16+O16+Q16+S16+U16+W16++Y16+AA16+AC16 -> 3450 | F16: =H16+J16+L16+N16+P16+R16+T16+V16+X16++Z16+AB16+AD16 -> 1150 | H16: =C16/4 -> 1150 | M16: =C16/4 -> 1150 | S16: =C16/4 -> 1150 | Y16: =C16/4 -> 1150
A17: Art Fair Sales | C17: ='Enterprise Budget example'!C10 -> 2000 | D17: Var | E17: =G17+I17+K17+M17+O17+Q17+S17+U17+W17++Y17+AA17+AC17 -> 1250 | F17: =H17+J17+L17+N17+P17+R17+T17+V17+X17++Z17+AB17+AD17 -> 750 | H17: 250 | J17: 250 | L17: 250 | M17: 250 | O17: 100 | Q17: 250 | S17: 300 | AC17: 350
A18: Online Sales | C18: ='Enterprise Budget example'!C11 -> 4000 | D18: Var | E18: =G18+I18+K18+M18+O18+Q18+S18+U18+W18++Y18+AA18+AC18 -> 4000 | F18: =H18+J18+L18+N18+P18+R18+T18+V18+X18++Z18+AB18+AD18 -> 0 | U18: 2000 | W18: 1000 | Y18: 500 | AA18: 500
A20: Totals IN | C20: =SUM(C12:C19) -> 31288 | E20: =SUM(E12:E19) -> 24216 | F20: =SUM(F12:F19) -> 7072 | G20: =SUM(G13:G19) -> 0 | H20: =SUM(H13:H19) -> 3124 | I20: =SUM(I13:I19) -> 0 | J20: =SUM(J13:J19) -> 1974 | K20: =SUM(K13:K19) -> 0 | L20: =SUM(L13:L19) -> 1974 | M20: =SUM(M13:M19) -> 3124 | N20: =SUM(N13:N19) -> 0 | ... AD20: =SUM(AD13:AD19) -> 0
F21: =E20+F20 -> 31288
A23: MONEY OUT - EXPENDITURE
A24: INVESTMENT
A25: FUTURE | C25: =(20000-6240)*5% -> 688 | D25: =C25/12 -> 57.333333 | E25: =G25+I25+K25+M25+O25+Q25+S25+U25+W25+Y25+AA25+AC25 -> 458.66667 | F25: =H25+J25+L25+N25+P25+R25+T25+V25+X25++Z25+AB25+AD25 -> 229.32 | H25: 57.33 | J25: 57.33 | L25: 57.33 | N25: 57.33 | O25: =D25 -> 57.333333 | Q25: =D25 -> 57.333333 | S25: =D25 -> 57.333333 | U25: =D25 -> 57.333333 | W25: =D25 -> 57.333333 | Y25: =D25 -> 57.333333 | AA25: =D25 -> 57.333333 | AC25: =D25 -> 57.333333
A26: PENSION POT - from past employment | D26: =C26/12 -> 0 | E26: =G26+I26+K26+M26+O26+Q26+S26+U26+W26+Y26+AA26+AC26 -> 0 | F26: =H26+J26+L26+N26+P26+R26+T26+V26+X26++Z26+AB26+AD26 -> 0
A27: Inventment ISA | C27: =50*12 -> 600 | D27: =C27/12 -> 50 | E27: =G27+I27+K27+M27+O27+Q27+S27+U27+W27+Y27+AA27+AC27 -> 450 | F27: =H27+J27+L27+N27+P27+R27+T27+V27+X27++Z27+AB27+AD27 -> 150 | H27: =D27 -> 50 | J27: =D27 -> 50 | L27: =D27 -> 50 | M27: =D27 -> 50 | O27: =D27 -> 50 | Q27: =D27 -> 50 | S27: =D27 -> 50 | U27: =D27 -> 50 | W27: =D27 -> 50 | Y27: =D27 -> 50 | AA27: =D27 -> 50 | AC27: =D27 -> 50
A29: SAVING SUB TOTAL | C29: =SUM(C24:C28) -> 1288 | D29: =SUM(D24:D28) -> 107.33333 | E29: =SUM(E24:E28) -> 908.66667 | F29: =SUM(F24:F28) -> 379.32 | G29: =SUM(G24:G28) -> 0 | H29: =SUM(H24:H28) -> 107.33 | I29: =SUM(I24:I28) -> 0 | J29: =SUM(J24:J28) -> 107.33 | ... AD29: =SUM(AD24:AD28) -> 0
A30: SAVING
A31: HOLIDAYS | C31: =150*12 -> 1800 | D31: =C31/12 -> 150 | E31: =G31+I31+K31+M31+O31+Q31+S31+U31+W31+Y31+AA31+AC31 -> 1350 | F31: =H31+J31+L31+N31+P31+R31+T31+V31+X31++Z31+AB31+AD31 -> 450 | H31: =D31 -> 150 | J31: =D31 -> 150 | L31: =D31 -> 150 | M31: =D31 -> 150 | O31: =D31 -> 150 | Q31: =D31 -> 150 | S31: =D31 -> 150 | U31: =D31 -> 150 | W31: =D31 -> 150 | Y31: =D31 -> 150 | AA31: =D31 -> 150 | AC31: =D31 -> 150
A32: EMERGENCY FUND | C32: 120 | D32: =C32/12 -> 10 | E32: =G32+I32+K32+M32+O32+Q32+S32+U32+W32+Y32+AA32+AC32 -> 90 | F32: =H32+J32+L32+N32+P32+R32+T32+V32+X32++Z32+AB32+AD32 -> 30 | H32: =D32 -> 10 | J32: =D32 -> 10 | L32: =D32 -> 10 | M32: =D32 -> 10 | O32: =D32 -> 10 | Q32: =D32 -> 10 | S32: =D32 -> 10 | U32: =D32 -> 10 | W32: =D32 -> 10 | Y32: =D32 -> 10 | AA32: =D32 -> 10 | AC32: =D32 -> 10
A33: Xmas | C33: 500 | D33: =C33/12 -> 41.666667 | E33: =G33+I33+K33+M33+O33+Q33+S33+U33+W33+Y33+AA33+AC33 -> 375 | F33: =H33+J33+L33+N33+P33+R33+T33+V33+X33++Z33+AB33+AD33 -> 125 | H33: =D33 -> 41.666667 | J33: =D33 -> 41.666667 | L33: =D33 -> 41.666667 | M33: =D33 -> 41.666667 | O33: =D33 -> 41.666667 | Q33: =D33 -> 41.666667 | S33: =D33 -> 41.666667 | U33: =D33 -> 41.666667 | W33: =D33 -> 41.666667 | Y33: =D33 -> 41.666667 | AA33: =D33 -> 41.666667 | AC33: =D33 -> 41.666667
A34: Tax tot pay in self assessment | C34: 400 | D34: =C34/12 -> 33.333333 | E34: =G34+I34+K34+M34+O34+Q34+S34+U34+W34+Y34+AA34+AC34 -> 300 | F34: =H34+J34+L34+N34+P34+R34+T34+V34+X34++Z34+AB34+AD34 -> 100 | H34: =D34 -> 33.333333 | J34: =D34 -> 33.333333 | L34: =D34 -> 33.333333 | M34: =D34 -> 33.333333 | O34: =D34 -> 33.333333 | Q34: =D34 -> 33.333333 | S34: =D34 -> 33.333333 | U34: =D34 -> 33.333333 | W34: =D34 -> 33.333333 | Y34: =D34 -> 33.333333 | AA34: =D34 -> 33.333333 | AC34: =D34 -> 33.333333
A35: SAVING SUB TOTAL | C35: =SUM(C30:C34) -> 2820 | D35: =SUM(D30:D34) -> 235 | E35: =SUM(E30:E34) -> 2115 | F35: =SUM(F30:F34) -> 705 | G35: =SUM(G30:G34) -> 0 | H35: =SUM(H30:H34) -> 235 | I35: =SUM(I30:I34) -> 0 | J35: =SUM(J30:J34) -> 235 | ... AD35: =SUM(AD30:AD34) -> 0
A36: FIXED COSTS - Living
A37: Rent/Mortgage | C37: =900*12 -> 10800 | D37: =C37/12 -> 900 | E37: =G37+I37+K37+M37+O37+Q37+S37+U37+W37+Y37+AA37+AC37 -> 8100 | F37: =H37+J37+L37+N37+P37+R37+T37+V37+X37++Z37+AB37+AD37 -> 2700 | H37: =D37 -> 900 | J37: =D37 -> 900 | L37: =D37 -> 900 | M37: =D37 -> 900 | O37: =D37 -> 900 | Q37: =D37 -> 900 | S37: =D37 -> 900 | U37: =D37 -> 900 | W37: =D37 -> 900 | Y37: =D37 -> 900 | AA37: =D37 -> 900 | AC37: =D37 -> 900
A38: Utilities | B38: Gas, Electricity, Water | C38: 800 | D38: =C38/12 -> 66.666667 | E38: =G38+I38+K38+M38+O38+Q38+S38+U38+W38+Y38+AA38+AC38 -> 600 | F38: =H38+J38+L38+N38+P38+R38+T38+V38+X38++Z38+AB38+AD38 -> 200 | H38: =D38 -> 66.666667 | J38: =D38 -> 66.666667 | L38: =D38 -> 66.666667 | M38: =D38 -> 66.666667 | O38: =D38 -> 66.666667 | Q38: =D38 -> 66.666667 | S38: =D38 -> 66.666667 | U38: =D38 -> 66.666667 | W38: =D38 -> 66.666667 | Y38: =D38 -> 66.666667 | AA38: =D38 -> 66.666667 | AC38: =D38 -> 66.666667
A39: Tel & Internet | B39: Broadband & Mobile | C39: =(25*12)+30*12 -> 660 | D39: =C39/12 -> 55 | E39: =G39+I39+K39+M39+O39+Q39+S39+U39+W39+Y39+AA39+AC39 -> 495 | F39: =H39+J39+L39+N39+P39+R39+T39+V39+X39++Z39+AB39+AD39 -> 165 | H39: =D39 -> 55 | J39: =D39 -> 55 | L39: =D39 -> 55 | M39: =D39 -> 55 | O39: =D39 -> 55 | Q39: =D39 -> 55 | S39: =D39 -> 55 | U39: =D39 -> 55 | W39: =D39 -> 55 | Y39: =D39 -> 55 | AA39: =D39 -> 55 | AC39: =D39 -> 55
A40: Council Tax | C40: =150*10 -> 1500 | D40: 150 | E40: =G40+I40+K40+M40+O40+Q40+S40+U40+W40+Y40+AA40+AC40 -> 1050 | F40: =H40+J40+L40+N40+P40+R40+T40+V40+X40++Z40+AB40+AD40 -> 450 | H40: =D40 -> 150 | J40: =D40 -> 150 | L40: =D40 -> 150 | M40: =D40 -> 150 | O40: =D40 -> 150 | Q40: =D40 -> 150 | S40: =D40 -> 150 | U40: =D40 -> 150 | W40: =D40 -> 150 | Y40: =D40 -> 150
A41: Groceries | B41: Food & Groceries | C41: =600*12 -> 7200 | D41: =C41/12 -> 600 | E41: =G41+I41+K41+M41+O41+Q41+S41+U41+W41+Y41+AA41+AC41 -> 5400 | F41: =H41+J41+L41+N41+P41+R41+T41+V41+X41++Z41+AB41+AD41 -> 1800 | H41: =D41 -> 600 | J41: =D41 -> 600 | L41: =D41 -> 600 | M41: =D41 -> 600 | O41: =D41 -> 600 | Q41: =D41 -> 600 | S41: =D41 -> 600 | U41: =D41 -> 600 | W41: =D41 -> 600 | Y41: =D41 -> 600 | AA41: =D41 -> 600 | AC41: =D41 -> 600
A42: Health | B42: Eye, teeth | C42: 100 | D42: =C42/12 -> 8.3333333 | E42: =G42+I42+K42+M42+O42+Q42+S42+U42+W42+Y42+AA42+AC42 -> 60 | F42: =H42+J42+L42+N42+P42+R42+T42+V42+X42++Z42+AB42+AD42 -> 35 | J42: 35 | O42: 30 | AA42: 30
A43: Subscriptions | B43: Netflix, Spotify | C43: =(17.99+6.99)*12 -> 299.76 | D43: =C43/12 -> 24.98 | E43: =G43+I43+K43+M43+O43+Q43+S43+U43+W43+Y43+AA43+AC43 -> 224.82 | F43: =H43+J43+L43+N43+P43+R43+T43+V43+X43++Z43+AB43+AD43 -> 74.94 | H43: =D43 -> 24.98 | J43: =D43 -> 24.98 | L43: =D43 -> 24.98 | M43: =D43 -> 24.98 | O43: =D43 -> 24.98 | Q43: =D43 -> 24.98 | S43: =D43 -> 24.98 | U43: =D43 -> 24.98 | W43: =D43 -> 24.98 | Y43: =D43 -> 24.98 | AA43: =D43 -> 24.98 | AC43: =D43 -> 24.98
A44: Gifts | B44: List out who & £ | C44: 400 | D44: =C44/12 -> 33.333333 | E44: =G44+I44+K44+M44+O44+Q44+S44+U44+W44+Y44+AA44+AC44 -> 300 | F44: =H44+J44+L44+N44+P44+R44+T44+V44+X44++Z44+AB44+AD44 -> 100 | H44: =D44 -> 33.333333 | J44: =D44 -> 33.333333 | L44: =D44 -> 33.333333 | M44: =D44 -> 33.333333 | O44: =D44 -> 33.333333 | Q44: =D44 -> 33.333333 | S44: =D44 -> 33.333333 | U44: =D44 -> 33.333333 | W44: =D44 -> 33.333333 | Y44: =D44 -> 33.333333 | AA44: =D44 -> 33.333333 | AC44: =D44 -> 33.333333
A46: LIVING Costs SUB TOTAL | C46: =SUM(C36:C45) -> 21759.76 | D46: =SUM(D36:D45) -> 1838.3133 | E46: =SUM(E36:E45) -> 16229.82 | F46: =SUM(F36:F45) -> 5524.94 | G46: =SUM(G36:G45) -> 0 | H46: =SUM(H36:H45) -> 1829.98 | I46: =SUM(I36:I45) -> 0 | J46: =SUM(J36:J45) -> 1864.98 | ... AD46: =SUM(AD36:AD45) -> 0
A47: SPENDING
A48: Going Out | C48: =400*12 -> 4800 | D48: =C48/12 -> 400 | E48: =G48+I48+K48+M48+O48+Q48+S48+U48+W48++Y48+AA48+AC48 -> 3600 | F48: =H48+J48+L48+N48+P48+R48+T48+V48+X48++Z48+AB48+AD48 -> 650 | H48: 200 | J48: 300 | L48: 150 | M48: =D48 -> 400 | O48: =D48 -> 400 | Q48: =D48 -> 400 | S48: =D48 -> 400 | U48: =D48 -> 400 | W48: =D48 -> 400 | Y48: =D48 -> 400 | AA48: =D48 -> 400 | AC48: =D48 -> 400
...

Sheet Student Budget example
A1: Budget 2023/24
E2: AUTO SUM TOTALS | G2: APRIL | I2: MAY | K2: JUNE | M2: JULY | O2: AUGUST | Q2: SEPTEMBER | S2: OCTOBER | U2: NOVEMBER | W2: DECEMBER | Y2: JANUARY | AA2: FEBRUARY | AC2: MARCH
B3: Notes | C3: Annual Budget | D3: MOS Budget | E3: FORECAST TOTALs | F3: ACTUAL TOTALS | G3: EXP | H3: ACT | I3: EXP | J3: ACT | K3: EXP | L3: ACT | M3: EXP | N3: ACT | O3: EXP | P3: ACT | Q3: EXP | R3: ACT | S3: EXP | T3: ACT | U3: EXP | V3: ACT | W3: EXP | X3: ACT | Y3: EXP | Z3: ACT | AA3: EXP | AB3: ACT | AC3: EXP | AD3: ACT
A5: MONEY IN - INCOME
B6: N/A
A7: Job 1 | B7: 10 months of year | C7: =D7*10 -> 2000 | D7: 200 | E7: =G7+I7+K7+M7+O7+Q7+S7+U7+W7+Y7+AA7+AC7 -> 2000 | F7: =H7+J7+L7+N7+P7+R7+T7+V7+X7++Z7+AB7+AD7 -> 1200 | G7: =D7 -> 200 | H7: 200 | I7: =D7 -> 200 | J7: 200 | K7: =D7 -> 200 | L7: 200 | M7: 150 | N7: 200 | Q7: =D7 -> 200 | R7: 200 | S7: 150 | T7: 200 | U7: =D7 -> 200 | W7: 150 | Y7: 150 | AA7: =D7 -> 200 | AC7: =D7 -> 200
A8: Job 2 | B8: Approx mos | C8: =D8*12 -> 600 | D8: 50 | E8: =G8+I8+K8+M8+O8+Q8+S8+U8+W8++Y8+AA8+AC8 -> 600 | F8: =H8+J8+L8+N8+P8+R8+T8+V8+X8++Z8+AB8+AD8 -> 350 | G8: =D8 -> 50 | H8: 50 | I8: =D8 -> 50 | J8: 50 | K8: =D8 -> 50 | L8: 50 | M8: =D8 -> 50 | N8: 50 | O8: =D8 -> 50 | P8: 50 | Q8: =D8 -> 50 | R8: 50 | S8: =D8 -> 50 | T8: 50 | U8: =D8 -> 50 | W8: =D8 -> 50 | Y8: =D8 -> 50 | AA8: =D8 -> 50 | AC8: =D8 -> 50
A9: Allowance | C9: =D9*12 -> 240 | D9: 20 | E9: =G9+I9+K9+M9+O9+Q9+S9+U9+W9++Y9+AA9+AC9 -> 240 | F9: =H9+J9+L9+N9+P9+R9+T9+V9+X9++Z9+AB9+AD9 -> 140 | G9: =D9 -> 20 | H9: 20 | I9: =D9 -> 20 | J9: 20 | K9: =D9 -> 20 | L9: 20 | M9: =D9 -> 20 | N9: 20 | O9: =D9 -> 20 | P9: 20 | Q9: =D9 -> 20 | R9: 20 | S9: =D9 -> 20 | T9: 20 | U9: =D9 -> 20 | W9: =D9 -> 20 | Y9: =D9 -> 20 | AA9: =D9 -> 20 | AC9: =D9 -> 20
A10: Xmas ?? & Birthday ?? | B10: s/be £200 | C10: =100+100 -> 200 | E10: =G10+I10+K10+M10+O10+Q10+S10+U10+W10++Y10+AA10+AC10 -> 200 | F10: =H10+J10+L10+N10+P10+R10+T10+V10+X10++Z10+AB10+AD10 -> 100 | Q10: 100 | R10: 100 | W10: 100
A12: Totals IN | C12: =SUM(C6:C11) -> 3040 | D12: =SUM(D6:D11) -> 270 | E12: =SUM(E6:E11) -> 3040 | F12: =SUM(F6:F11) -> 1790 | G12: =SUM(G7:G11) -> 270 | H12: =SUM(H7:H11) -> 270 | I12: =SUM(I7:I11) -> 270 | J12: =SUM(J7:J11) -> 270 | K12: =SUM(K7:K11) -> 270 | L12: =SUM(L7:L11) -> 270 | M12: =SUM(M7:M11) -> 220 | N12: =SUM(N7:N11) -> 270 | ... AD12: =SUM(AD7:AD11) -> 0
F13: =E12-F12 -> 1250
A15: MONEY OUT - EXPENDITURE
A16: SAVING
A17: HOLIDAY with friends | C17: 600 | D17: =C17/12 -> 50 | E17: =G17+I17+K17+M17+O17+Q17+S17+U17+W17+Y17+AA17+AC17 -> 600 | F17: =H17+J17+L17+N17+P17+R17+T17+V17+X17++Z17+AB17+AD17 -> 0 | G17: =D17 -> 50 | I17: =D17 -> 50 | K17: =D17 -> 50 | M17: =D17 -> 50 | O17: =D17 -> 50 | Q17: =D17 -> 50 | S17: =D17 -> 50 | U17: =D17 -> 50 | W17: =D17 -> 50 | Y17: =D17 -> 50 | AA17: =D17 -> 50 | AC17: =D17 -> 50
A18: FUTURE | C18: 240 | D18: =C18/12 -> 20 | E18: =G18+I18+K18+M18+O18+Q18+S18+U18+W18+Y18+AA18+AC18 -> 240 | F18: =H18+J18+L18+N18+P18+R18+T18+V18+X18++Z18+AB18+AD18 -> 0 | G18: =D18 -> 20 | I18: =D18 -> 20 | K18: =D18 -> 20 | M18: =D18 -> 20 | O18: =D18 -> 20 | Q18: =D18 -> 20 | S18: =D18 -> 20 | U18: =D18 -> 20 | W18: =D18 -> 20 | Y18: =D18 -> 20 | AA18: =D18 -> 20 | AC18: =D18 -> 20
A19: EMERGENCY FUND | C19: 120 | D19: =C19/12 -> 10 | E19: =G19+I19+K19+M19+O19+Q19+S19+U19+W19+Y19+AA19+AC19 -> 120 | F19: =H19+J19+L19+N19+P19+R19+T19+V19+X19++Z19+AB19+AD19 -> 0 | G19: =D19 -> 10 | I19: =D19 -> 10 | K19: =D19 -> 10 | M19: =D19 -> 10 | O19: =D19 -> 10 | Q19: =D19 -> 10 | S19: =D19 -> 10 | U19: =D19 -> 10 | W19: =D19 -> 10 | Y19: =D19 -> 10 | AA19: =D19 -> 10 | AC19: =D19 -> 10
A21: SAVING SUB TOTAL | C21: =SUM(C16:C20) -> 960 | D21: =SUM(D16:D20) -> 80 | E21: =SUM(E16:E20) -> 960 | F21: =SUM(F16:F20) -> 0 | G21: =SUM(G16:G20) -> 80 | H21: =SUM(H16:H20) -> 0 | I21: =SUM(I16:I20) -> 80 | J21: =SUM(J16:J20) -> 0 | ... AD21: =SUM(AD16:AD20) -> 0
A22: Living
A23: Gym membership | C23: =D23*12 -> 180 | D23: 15 | E23: =G23+I23+K23+M23+O23+Q23+S23+U23+W23+Y23+AA23+AC23 -> 180 | F23: =H23+J23+L23+N23+P23+R23+T23+V23+X23++Z23+AB23+AD23 -> 0 | G23: =D23 -> 15 | I23: =D23 -> 15 | K23: =D23 -> 15 | M23: =D23 -> 15 | O23: =D23 -> 15 | Q23: =D23 -> 15 | S23: =D23 -> 15 | U23: =D23 -> 15 | W23: =D23 -> 15 | Y23: =D23 -> 15 | AA23: =D23 -> 15 | AC23: =D23 -> 15
A24: Stationary | C24: 30 | D24: =C24/12 -> 2.5 | E24: =G24+I24+K24+M24+O24+Q24+S24+U24+W24+Y24+AA24+AC24 -> 30 | F24: =H24+J24+L24+N24+P24+R24+T24+V24+X24++Z24+AB24+AD24 -> 0 | Q24: =C24/2 -> 15 | Y24: =C24/2 -> 15
A25: Lunches at College | C25: =50*10 -> 500 | D25: =C25/10 -> 50 | E25: =G25+I25+K25+M25+O25+Q25+S25+U25+W25+Y25+AA25+AC25 -> 500 | F25: =H25+J25+L25+N25+P25+R25+T25+V25+X25++Z25+AB25+AD25 -> 270 | G25: 40 | H25: 40 | I25: =D25 -> 50 | J25: 45 | K25: =D25 -> 50 | L25: 50 | M25: =D25 -> 50 | N25: 50 | Q25: 50 | R25: 50 | S25: 40 | T25: 35 | U25: =D25 -> 50 | W25: 40 | Y25: 40 | AA25: 40 | AC25: 50
A26: Presents | B26: 4 - MUM, BROTHER, friend x2 | C26: 80 | E26: =G26+I26+K26+M26+O26+Q26+S26+U26+W26+Y26+AA26+AC26 -> 80 | F26: =H26+J26+L26+N26+P26+R26+T26+V26+X26++Z26+AB26+AD26 -> 0 | M26: 20 | S26: 20 | W26: 20 | AC26: 20
A28: LIVING Costs SUB TOTAL | C28: =SUM(C22:C27) -> 790 | D28: =SUM(D22:D27) -> 67.5 | E28: =SUM(E22:E27) -> 790 | F28: =SUM(F22:F27) -> 270 | G28: =SUM(G22:G27) -> 55 | H28: =SUM(H22:H27) -> 40 | I28: =SUM(I22:I27) -> 65 | J28: =SUM(J22:J27) -> 45 | ... AD28: =SUM(AD22:AD27) -> 0
A29: SPENDING
A30: Going Out | C30: 1000 | D30: =C30/12 -> 83.333333 | E30: =G30+I30+K30+M30+O30+Q30+S30+U30+W30+Y30+AA30+AC30 -> 1000 | F30: =H30+J30+L30+N30+P30+R30+T30+V30+X30++Z30+AB30+AD30 -> 0 | G30: =D30 -> 83.333333 | I30: =D30 -> 83.333333 | K30: =D30 -> 83.333333 | M30: =D30 -> 83.333333 | O30: =D30 -> 83.333333 | Q30: =D30 -> 83.333333 | S30: =D30 -> 83.333333 | U30: =D30 -> 83.333333 | W30: =D30 -> 83.333333 | Y30: =D30 -> 83.333333 | AA30: =D30 -> 83.333333 | AC30: =D30 -> 83.333333
A31: Hobby | C31: 50 | E31: =G31+I31+K31+M31+O31+Q31+S31+U31+W31++Y31+AA31+AC31 -> 50 | F31: =H31+J31+L31+N31+P31+R31+T31+V31+X31++Z31+AB31+AD31 -> 0 | M31: =20 -> 20 | S31: 10 | Y31: 20
E32: =G32+I32+K32+M32+O32+Q32+S32+U32+W32++Y32+AA32+AC32 -> 0 | F32: =H32+J32+L32+N32+P32+R32+T32+V32+X32++Z32+AB32+AD32 -> 0
A34: SPENDING SUB TOTAL | C34: =SUM(C30:C33) -> 1050 | D34: =SUM(D30:D33) -> 83.333333 | E34: =SUM(E29:E33) -> 1050 | F34: =SUM(F29:F33) -> 0 | G34: =SUM(G29:G33) -> 83.333333 | H34: =SUM(H29:H33) -> 0 | I34: =SUM(I29:I33) -> 83.333333 | J34: =SUM(J29:J33) -> 0 | K34: =SUM(K29:K33) -> 83.333333 | L34: =SUM(L29:L33) -> 0 | ... AD34: =SUM(AD29:AD33) -> 0
A37: TOTALS OUT | C37: =C21+C28+C34 -> 2800 | D37: =D28+D34 -> 150.83333 | E37: =E21+E28+E34 -> 2800 | F37: =F28+F34 -> 270 | G37: =G28+G34 -> 138.33333 | H37: =H28+H34 -> 40 | I37: =I28+I34 -> 148.33333 | J37: =J28+J34 -> 45 | K37: =K28+K34 -> 148.33333 | L37: =L28+L34 -> 50 | M37: =M28+M34 -> 188.33333 | ... AD37: =AD28+AD34 -> 0
B39: BALANCE | C39: =C12-C37 -> 240 | F39: =F12-F37 -> 1520 | H39: =H12-H37 -> 230 | J39: =J12-J37 -> 225 | L39: =L12-L37 -> 220 | N39: =N12-N37 -> 220 | P39: =P12-P37 -> 70 | R39: =R12-R37 -> 320 | T39: =T12-T37 -> 235 | V39: =V12-V37 -> 0 | X39: =X12-X37 -> 0 | Z39: =Z12-Z37 -> 0 | AB39: =AB12-AB37 -> 0 | AD39: =AD12-AD37 -> 0
